BEGIN:VCALENDAR
VERSION:2.0
PRODID:-//Steve Bell - ECPv6.15.20//NONSGML v1.0//EN
CALSCALE:GREGORIAN
METHOD:PUBLISH
X-ORIGINAL-URL:https://stevebell.com
X-WR-CALDESC:Events for Steve Bell
REFRESH-INTERVAL;VALUE=DURATION:PT1H
X-Robots-Tag:noindex
X-PUBLISHED-TTL:PT1H
BEGIN:VTIMEZONE
TZID:America/Winnipeg
BEGIN:DAYLIGHT
TZOFFSETFROM:-0600
TZOFFSETTO:-0500
TZNAME:CDT
DTSTART:20230312T080000
END:DAYLIGHT
BEGIN:STANDARD
TZOFFSETFROM:-0500
TZOFFSETTO:-0600
TZNAME:CST
DTSTART:20231105T070000
END:STANDARD
BEGIN:DAYLIGHT
TZOFFSETFROM:-0600
TZOFFSETTO:-0500
TZNAME:CDT
DTSTART:20240310T080000
END:DAYLIGHT
BEGIN:STANDARD
TZOFFSETFROM:-0500
TZOFFSETTO:-0600
TZNAME:CST
DTSTART:20241103T070000
END:STANDARD
BEGIN:DAYLIGHT
TZOFFSETFROM:-0600
TZOFFSETTO:-0500
TZNAME:CDT
DTSTART:20250309T080000
END:DAYLIGHT
BEGIN:STANDARD
TZOFFSETFROM:-0500
TZOFFSETTO:-0600
TZNAME:CST
DTSTART:20251102T070000
END:STANDARD
END:VTIMEZONE
BEGIN:VEVENT
DTSTART;TZID=America/Winnipeg:20241004T193000
DTEND;TZID=America/Winnipeg:20241004T213000
DTSTAMP:20260422T014327
CREATED:20240612T151611Z
LAST-MODIFIED:20241004T160208Z
UID:10000129-1728070200-1728077400@stevebell.com
SUMMARY:Brandon\, MB — Solo Album Release Concert
DESCRIPTION:An evening of story and song\, featuring music from Steve’s new album\, The Glad Surprise\, as well as Steve Bell classics and favourites.\nTickets available below or through Westman YFC.\nFor phone orders\, call Signpost Music toll-free at 1-800-854-3499. \nTICKETS WILL BE AVAILABLE AT THE DOOR ON CONCERT NIGHT. \nA portion of the proceeds will go towards UTurn\, a ministry of Westman Youth for Christ. \n  \n  \n  \n  \n  \nFor a preview of Steve’s concerts\, see below. Feel free to share! \nhttps://youtu.be/gHLlY2LHLxo \n 
URL:https://stevebell.com/event/brandon-mb-solo-album-release-concert/
LOCATION:McDiarmid Drive Alliance Church\, 635 McDiarmid Dr\, Brandon\, MB\, R7B 2H6\, Canada
CATEGORIES:Solo Concert
ATTACH;FMTTYPE=image/jpeg:https://stevebell.com/wp-content/uploads/Steve-Bell-2-scaled.jpg
END:VEVENT
BEGIN:VEVENT
DTSTART;TZID=America/Winnipeg:20241005T193000
DTEND;TZID=America/Winnipeg:20241005T213000
DTSTAMP:20260422T014328
CREATED:20240612T153814Z
LAST-MODIFIED:20241004T155908Z
UID:10000131-1728156600-1728163800@stevebell.com
SUMMARY:Morden\, MB — Solo Album Release Concert
DESCRIPTION:An evening of story and song\, featuring music from Steve’s new album\, The Glad Surprise\, as well as Steve Bell classics and favourites.\nTickets available below.\nFor phone orders\, call Signpost Music toll-free at 1-800-854-3499. \nTICKETS WILL BE AVAILABLE AT THE DOOR ON CONCERT NIGHT. \nFor a preview of Steve’s concerts\, see below. Feel free to share! \nhttps://youtu.be/rRajfgHTdpc \n 
URL:https://stevebell.com/event/morden-mb-solo-album-release-concert/
LOCATION:Morden Alliance Church\, 181 15th Street\, Morden\, MB\, R6M 1G3\, Canada
CATEGORIES:Solo Concert
ATTACH;FMTTYPE=image/jpeg:https://stevebell.com/wp-content/uploads/Steve-Bell-2-scaled.jpg
END:VEVENT
BEGIN:VEVENT
DTSTART;TZID=America/Winnipeg:20241006T190000
DTEND;TZID=America/Winnipeg:20241006T210000
DTSTAMP:20260422T014328
CREATED:20240612T153933Z
LAST-MODIFIED:20241004T155821Z
UID:10000132-1728241200-1728248400@stevebell.com
SUMMARY:Steinbach\, MB — Solo Album Release Concert
DESCRIPTION:An evening of story and song\, featuring music from Steve’s new album\, The Glad Surprise\, as well as Steve Bell classics and favourites.\nTickets available below.\nFor phone orders\, call Signpost Music toll-free at 1-800-854-3499. \nTICKETS WILL BE AVAILABLE AT THE DOOR ON CONCERT NIGHT. \nFor a preview of Steve’s concerts\, see below. Feel free to share! \nhttps://youtu.be/ZgEb6bFnI74 \n 
URL:https://stevebell.com/event/steinbach-mb-solo-album-release-concert/
LOCATION:Grace Mennonite Church\, 430 Third Street\, Steinbach\, MB\, R5G 0K5\, Canada
CATEGORIES:Solo Concert
ATTACH;FMTTYPE=image/jpeg:https://stevebell.com/wp-content/uploads/Steve-Bell-2-scaled.jpg
END:VEVENT
END:VCALENDAR