BEGIN:VCALENDAR
VERSION:2.0
PRODID:-//Steve Bell - ECPv6.15.20//NONSGML v1.0//EN
CALSCALE:GREGORIAN
METHOD:PUBLISH
X-WR-CALNAME:Steve Bell
X-ORIGINAL-URL:https://stevebell.com
X-WR-CALDESC:Events for Steve Bell
REFRESH-INTERVAL;VALUE=DURATION:PT1H
X-Robots-Tag:noindex
X-PUBLISHED-TTL:PT1H
BEGIN:VTIMEZONE
TZID:America/Regina
BEGIN:STANDARD
TZOFFSETFROM:-0600
TZOFFSETTO:-0600
TZNAME:CST
DTSTART:20240101T000000
END:STANDARD
END:VTIMEZONE
BEGIN:VTIMEZONE
TZID:America/Edmonton
BEGIN:DAYLIGHT
TZOFFSETFROM:-0700
TZOFFSETTO:-0600
TZNAME:MDT
DTSTART:20240310T090000
END:DAYLIGHT
BEGIN:STANDARD
TZOFFSETFROM:-0600
TZOFFSETTO:-0700
TZNAME:MST
DTSTART:20241103T080000
END:STANDARD
BEGIN:DAYLIGHT
TZOFFSETFROM:-0700
TZOFFSETTO:-0600
TZNAME:MDT
DTSTART:20250309T090000
END:DAYLIGHT
BEGIN:STANDARD
TZOFFSETFROM:-0600
TZOFFSETTO:-0700
TZNAME:MST
DTSTART:20251102T080000
END:STANDARD
BEGIN:DAYLIGHT
TZOFFSETFROM:-0700
TZOFFSETTO:-0600
TZNAME:MDT
DTSTART:20260308T090000
END:DAYLIGHT
BEGIN:STANDARD
TZOFFSETFROM:-0600
TZOFFSETTO:-0700
TZNAME:MST
DTSTART:20261101T080000
END:STANDARD
END:VTIMEZONE
BEGIN:VEVENT
DTSTART;TZID=America/Regina:20251205T193000
DTEND;TZID=America/Regina:20251205T213000
DTSTAMP:20260421T050713
CREATED:20250917T170217Z
LAST-MODIFIED:20251201T154527Z
UID:10000175-1764963000-1764970200@stevebell.com
SUMMARY:Regina\, SK — Advent Concert
DESCRIPTION:An evening of story and song\, featuring music from Steve’s latest album\, “The Glad Surprise\,” as well as Advent classics and favourites. Tickets available below\, and at Burns Hanley Church Supplies (2727 13th Avenue\, Regina | 306-522-6636).\nTickets are $29 plus a $1 credit card transaction fee. GST will be added at check-out. \nTICKETS WILL BE AVAILABLE AT THE DOOR ON CONCERT NIGHT. DOORS OPEN AT 6:30 PM. \nFor a preview of Steve’s concerts\, see below. Feel free to share! \nhttps://youtu.be/exv4UFhODWQ \n 
URL:https://stevebell.com/event/regina-sk-solo-concert/
LOCATION:Holy Child Parish\, 2636 7th Ave E\, Regina\, SK\, S4N 6A3\, Canada
CATEGORIES:Solo Concert
ATTACH;FMTTYPE=image/jpeg:https://stevebell.com/wp-content/uploads/Steve-Bell-Advent-Concerts.jpg
GEO:50.4591344;-104.5445154
X-APPLE-STRUCTURED-LOCATION;VALUE=URI;X-ADDRESS=Holy Child Parish 2636 7th Ave E Regina SK S4N 6A3 Canada;X-APPLE-RADIUS=500;X-TITLE=2636 7th Ave E:geo:-104.5445154,50.4591344
END:VEVENT
BEGIN:VEVENT
DTSTART;TZID=America/Regina:20251206T193000
DTEND;TZID=America/Regina:20251206T213000
DTSTAMP:20260421T050713
CREATED:20250917T170428Z
LAST-MODIFIED:20251201T154840Z
UID:10000176-1765049400-1765056600@stevebell.com
SUMMARY:Saskatoon\, SK — Advent Concert
DESCRIPTION:An evening of story and song\, featuring music from Steve’s latest album\, “The Glad Surprise\,” as well as Advent classics and favourites. Tickets available below.\nTickets are $29 plus a $1 credit card transaction fee. GST will be added at check-out. Tickets are also available through Ebenezer Baptist Church (306-249-0084).\nFor phone orders call Signpost Music at 1-800-854-3499. \nTICKETS WILL BE AVAILABLE AT THE DOOR ON CONCERT NIGHT. DOORS OPEN AT 6:30 PM. \nFor a preview of Steve’s concerts\, see below. Feel free to share! \nhttps://youtu.be/Bdm-gLVGeg0 \n 
URL:https://stevebell.com/event/saskatoon-sk-advent-concert/
LOCATION:Ebenezer Baptist Church\, 107 McWillie Avenue\, Saskatoon\, SK\, S7S 1B2\, Canada
CATEGORIES:Solo Concert
ATTACH;FMTTYPE=image/jpeg:https://stevebell.com/wp-content/uploads/Steve-Bell-Advent-Concerts.jpg
GEO:52.156183;-106.596753
X-APPLE-STRUCTURED-LOCATION;VALUE=URI;X-ADDRESS=Ebenezer Baptist Church 107 McWillie Avenue Saskatoon SK S7S 1B2 Canada;X-APPLE-RADIUS=500;X-TITLE=107 McWillie Avenue:geo:-106.596753,52.156183
END:VEVENT
BEGIN:VEVENT
DTSTART;TZID=America/Edmonton:20251212T193000
DTEND;TZID=America/Edmonton:20251212T213000
DTSTAMP:20260421T050713
CREATED:20250917T170654Z
LAST-MODIFIED:20251201T152514Z
UID:10000177-1765567800-1765575000@stevebell.com
SUMMARY:Calgary\, AB — Advent Concert
DESCRIPTION:An evening of story and song\, featuring music from Steve’s latest album\, “The Glad Surprise\,” as well as Advent classics and favourites.\nTHIS CONCERT IS SOLD OUT. THANKS FOR YOUR SUPPORT. \nFor a preview of Steve’s concerts\, see below. Feel free to share! \nhttps://youtu.be/X8CEEFzoSpc \n 
URL:https://stevebell.com/event/calgary-ab-advent-concert/
LOCATION:Oak Park Church of Christ\, 11263 Oakfield Drive SW\, Calgary\, AB\, T2W 4M2\, Canada
CATEGORIES:Solo Concert
ATTACH;FMTTYPE=image/jpeg:https://stevebell.com/wp-content/uploads/Steve-Bell-Advent-Concerts.jpg
END:VEVENT
BEGIN:VEVENT
DTSTART;TZID=America/Edmonton:20251213T190000
DTEND;TZID=America/Edmonton:20251213T210000
DTSTAMP:20260421T050713
CREATED:20251031T184152Z
LAST-MODIFIED:20251119T162800Z
UID:10000181-1765652400-1765659600@stevebell.com
SUMMARY:Lethbridge\, AB — Advent Concert
DESCRIPTION:An evening of story and song\, featuring music from Steve’s latest album\, The Glad Surprise\, as well as Advent classics and favourites.\nTickets available below. For phone orders\, call Signpost Music toll-free at 1-800-854-3499.\nTickets are also available through Lethbridge First Baptist Church (1614 – 5 Ave S | 403-327-2082) \nFor a preview of Steve’s concerts\, see below. Feel free to share! \nhttps://youtu.be/6sJVuHzbkVk \n 
URL:https://stevebell.com/event/lethbridge-ab-advent-concert/
LOCATION:First Baptist Church\, 1614 - 5 Avenue S\, Lethbridge\, AB\, T1J 0W3\, Canada
CATEGORIES:Solo Concert
ATTACH;FMTTYPE=image/jpeg:https://stevebell.com/wp-content/uploads/Steve-Bell-Advent-Concerts.jpg
END:VEVENT
BEGIN:VEVENT
DTSTART;TZID=America/Edmonton:20251214T190000
DTEND;TZID=America/Edmonton:20251214T210000
DTSTAMP:20260421T050713
CREATED:20251031T184433Z
LAST-MODIFIED:20251124T161554Z
UID:10000182-1765738800-1765746000@stevebell.com
SUMMARY:Sherwood Park\, AB — Advent Concert
DESCRIPTION:*THIS CONCERT IS SOLD OUT. THANKS FOR YOUR SUPPORT* \nAn evening of story and song\, featuring music from Steve’s latest album\, The Glad Surprise\, as well as Advent classics and favourites.\nThe church will be collecting donations of non-perishable food items on behalf of the Strathcona County Food Bank. \nFor a preview of Steve’s concerts\, see below. Feel free to share! \nhttps://youtu.be/NwC2YDVZgns \n 
URL:https://stevebell.com/event/sherwood-park-ab-advent-concert/
LOCATION:Saint Thomas Anglican Church\, 4A Raven Drive\, Sherwood Park\, AB\, T8A 0C9\, Canada
CATEGORIES:Solo Concert
ATTACH;FMTTYPE=image/jpeg:https://stevebell.com/wp-content/uploads/Steve-Bell-Advent-Concerts.jpg
END:VEVENT
END:VCALENDAR