BEGIN:VCALENDAR
VERSION:2.0
PRODID:-//Steve Bell - ECPv6.15.20//NONSGML v1.0//EN
CALSCALE:GREGORIAN
METHOD:PUBLISH
X-ORIGINAL-URL:https://stevebell.com
X-WR-CALDESC:Events for Steve Bell
REFRESH-INTERVAL;VALUE=DURATION:PT1H
X-Robots-Tag:noindex
X-PUBLISHED-TTL:PT1H
BEGIN:VTIMEZONE
TZID:America/Winnipeg
BEGIN:DAYLIGHT
TZOFFSETFROM:-0600
TZOFFSETTO:-0500
TZNAME:CDT
DTSTART:20210314T080000
END:DAYLIGHT
BEGIN:STANDARD
TZOFFSETFROM:-0500
TZOFFSETTO:-0600
TZNAME:CST
DTSTART:20211107T070000
END:STANDARD
BEGIN:DAYLIGHT
TZOFFSETFROM:-0600
TZOFFSETTO:-0500
TZNAME:CDT
DTSTART:20220313T080000
END:DAYLIGHT
BEGIN:STANDARD
TZOFFSETFROM:-0500
TZOFFSETTO:-0600
TZNAME:CST
DTSTART:20221106T070000
END:STANDARD
BEGIN:DAYLIGHT
TZOFFSETFROM:-0600
TZOFFSETTO:-0500
TZNAME:CDT
DTSTART:20230312T080000
END:DAYLIGHT
BEGIN:STANDARD
TZOFFSETFROM:-0500
TZOFFSETTO:-0600
TZNAME:CST
DTSTART:20231105T070000
END:STANDARD
END:VTIMEZONE
BEGIN:VEVENT
DTSTART;VALUE=DATE:20220604
DTEND;VALUE=DATE:20220608
DTSTAMP:20260423T132805
CREATED:20220510T140149Z
LAST-MODIFIED:20220510T144337Z
UID:10000007-1654300800-1654646399@stevebell.com
SUMMARY:Seattle\, WA - Steve Bell & Malcolm Guite
DESCRIPTION:JUNE 4-7\nFAITH AND THE IMAGINATION – SEATTLE\nJoin us for any or all of the five events over four days to explore the central role of the creative imagination in work\, technology\, the arts\, music\, and worship. Cambridge’s distinguished poet Malcolm Guite and award-winning Canadian musician Steve Bell host a set of wide-ranging conversations in diverse settings about the gift of the human imagination for the flourishing of our world. \nNo cost for most events\, and registration required for “conversation” events. \nVISIT THIS LINK FOR MORE INFORMATION OR TO REGISTER \n“A unique blend of song\, poetry and everything in between. The creative collaboration of Steve Bell and Malcolm Guite is sure to nourish your soul.”
URL:https://stevebell.com/event/seattle-wa-steve-bell-malcolm-guite/
LOCATION:Manitoba
CATEGORIES:Steve Bell & Malcolm Guite
ATTACH;FMTTYPE=image/png:https://stevebell.com/wp-content/uploads/Steve_Malcolm.png
END:VEVENT
END:VCALENDAR