BEGIN:VCALENDAR
VERSION:2.0
PRODID:-//Steve Bell - ECPv6.15.20//NONSGML v1.0//EN
CALSCALE:GREGORIAN
METHOD:PUBLISH
X-WR-CALNAME:Steve Bell
X-ORIGINAL-URL:https://stevebell.com
X-WR-CALDESC:Events for Steve Bell
REFRESH-INTERVAL;VALUE=DURATION:PT1H
X-Robots-Tag:noindex
X-PUBLISHED-TTL:PT1H
BEGIN:VTIMEZONE
TZID:America/Toronto
BEGIN:DAYLIGHT
TZOFFSETFROM:-0500
TZOFFSETTO:-0400
TZNAME:EDT
DTSTART:20240310T070000
END:DAYLIGHT
BEGIN:STANDARD
TZOFFSETFROM:-0400
TZOFFSETTO:-0500
TZNAME:EST
DTSTART:20241103T060000
END:STANDARD
BEGIN:DAYLIGHT
TZOFFSETFROM:-0500
TZOFFSETTO:-0400
TZNAME:EDT
DTSTART:20250309T070000
END:DAYLIGHT
BEGIN:STANDARD
TZOFFSETFROM:-0400
TZOFFSETTO:-0500
TZNAME:EST
DTSTART:20251102T060000
END:STANDARD
BEGIN:DAYLIGHT
TZOFFSETFROM:-0500
TZOFFSETTO:-0400
TZNAME:EDT
DTSTART:20260308T070000
END:DAYLIGHT
BEGIN:STANDARD
TZOFFSETFROM:-0400
TZOFFSETTO:-0500
TZNAME:EST
DTSTART:20261101T060000
END:STANDARD
END:VTIMEZONE
BEGIN:VEVENT
DTSTART;TZID=America/Toronto:20250131T183000
DTEND;TZID=America/Toronto:20250201T170000
DTSTAMP:20260419T173735
CREATED:20250108T163526Z
LAST-MODIFIED:20250108T163526Z
UID:10000153-1738348200-1738429200@stevebell.com
SUMMARY:Washington\, DC — Special Event
DESCRIPTION:Encountering Beauty—Glimpses of God’s Glory through Art and Imagination \nThis retreat\, highlighting the works of Ken Boa\, Steve Bell\, Malcolm Guite\, and Timothy and Christine Willard\, is being held at Museum of the Bible in Washington\, DC. Explore how art reveals divine truth and inspires wonder. Delve into the deep connections between art\, theology\, and personal reflection. \nTickets available HERE.
URL:https://stevebell.com/event/washington-dc-special-event/
LOCATION:Manitoba
CATEGORIES:Steve Bell & Malcolm Guite
END:VEVENT
END:VCALENDAR