BEGIN:VCALENDAR
VERSION:2.0
PRODID:-//Steve Bell - ECPv6.15.20//NONSGML v1.0//EN
CALSCALE:GREGORIAN
METHOD:PUBLISH
X-WR-CALNAME:Steve Bell
X-ORIGINAL-URL:https://stevebell.com
X-WR-CALDESC:Events for Steve Bell
REFRESH-INTERVAL;VALUE=DURATION:PT1H
X-Robots-Tag:noindex
X-PUBLISHED-TTL:PT1H
BEGIN:VTIMEZONE
TZID:America/Winnipeg
BEGIN:DAYLIGHT
TZOFFSETFROM:-0600
TZOFFSETTO:-0500
TZNAME:CDT
DTSTART:20180311T080000
END:DAYLIGHT
BEGIN:STANDARD
TZOFFSETFROM:-0500
TZOFFSETTO:-0600
TZNAME:CST
DTSTART:20181104T070000
END:STANDARD
BEGIN:DAYLIGHT
TZOFFSETFROM:-0600
TZOFFSETTO:-0500
TZNAME:CDT
DTSTART:20190310T080000
END:DAYLIGHT
BEGIN:STANDARD
TZOFFSETFROM:-0500
TZOFFSETTO:-0600
TZNAME:CST
DTSTART:20191103T070000
END:STANDARD
BEGIN:DAYLIGHT
TZOFFSETFROM:-0600
TZOFFSETTO:-0500
TZNAME:CDT
DTSTART:20200308T080000
END:DAYLIGHT
BEGIN:STANDARD
TZOFFSETFROM:-0500
TZOFFSETTO:-0600
TZNAME:CST
DTSTART:20201101T070000
END:STANDARD
END:VTIMEZONE
BEGIN:VEVENT
DTSTART;VALUE=DATE:20190414
DTEND;VALUE=DATE:20190415
DTSTAMP:20260420T022018
CREATED:20190104T224052Z
LAST-MODIFIED:20190104T224708Z
UID:10000020-1555200000-1555286399@stevebell.com
SUMMARY:AVAILABLE DATE - SOUTHERN ONTARIO AREA ONLY
DESCRIPTION:Thoughts? Ideas? Contact dave@signpostmusic.com
URL:https://stevebell.com/event/available-date-southern-ontario-area-only-2/
LOCATION:ON
END:VEVENT
BEGIN:VEVENT
DTSTART;TZID=America/Winnipeg:20190412T193000
DTEND;TZID=America/Winnipeg:20190413T153000
DTSTAMP:20260420T022018
CREATED:20190105T020421Z
LAST-MODIFIED:20190105T020421Z
UID:10000022-1555097400-1555169400@stevebell.com
SUMMARY:For The Journey Retreat – Ottawa\, ON
DESCRIPTION:FOR THE JOURNEY – Retreat with host Steve Bell Refreshing Christian faith and spiritual tradition for the weary and the wary. Steve explores the fertile tradition and spirituality of a Trinitarian faith\, navigating a pattern for corporate worship in tandem with the Christian calendar year\, the Hebrew psalms\, and ancient prayers of the church.
URL:https://stevebell.com/event/for-the-journey-retreat-ottawa-on/
LOCATION:ON
CATEGORIES:For the Journey Retreat
ATTACH;FMTTYPE=image/jpeg:https://stevebell.com/wp-content/uploads/Retreat-Header.jpg
END:VEVENT
BEGIN:VEVENT
DTSTART;TZID=America/Winnipeg:20190411T190000
DTEND;TZID=America/Winnipeg:20190411T190000
DTSTAMP:20260420T022018
CREATED:20190104T212106Z
LAST-MODIFIED:20190409T160848Z
UID:10000002-1555009200-1555009200@stevebell.com
SUMMARY:Cornwall\, ON - Solo Concert
DESCRIPTION:An evening of tunes & tales with Steve Bell. \nTickets are now available online (scroll down). \nTICKETS WILL BE AVAILABLE AT THE DOOR. \n 
URL:https://stevebell.com/event/cornwall-on-solo-concert/
LOCATION:First Baptist Church\, Cornwall\, 310 York Street\, Cornwall\, Ontario\, Canada
CATEGORIES:Solo Concert
ATTACH;FMTTYPE=image/jpeg:https://stevebell.com/wp-content/uploads/Concert-Image-WEB-3.jpeg
END:VEVENT
BEGIN:VEVENT
DTSTART;VALUE=DATE:20190408
DTEND;VALUE=DATE:20190409
DTSTAMP:20260420T022018
CREATED:20190104T215159Z
LAST-MODIFIED:20190104T215159Z
UID:10000012-1554681600-1554767999@stevebell.com
SUMMARY:Peace River\, AB - Private Event
DESCRIPTION:Peace River Faith Day – Private Event (Catholic School Staff Retreat)
URL:https://stevebell.com/event/peace-river-ab-private-event/
LOCATION:ON
CATEGORIES:Private Event
END:VEVENT
BEGIN:VEVENT
DTSTART;TZID=America/Winnipeg:20190406T190000
DTEND;TZID=America/Winnipeg:20190406T190000
DTSTAMP:20260420T022018
CREATED:20190213T191549Z
LAST-MODIFIED:20190402T155156Z
UID:10000024-1554577200-1554577200@stevebell.com
SUMMARY:Spruce Grove - Solo Concert
DESCRIPTION:An evening of tunes & tales from the journey with Steve Bell\, sponsored by The Catholic Archdiocese of Edmonton. \nTickets are now available online (scroll down). More tickets available at Holy Trinity Parish or A Gift of Faith Bookstore. \nTICKETS WILL BE AVAILABLE AT THE DOOR.  \nSPONSORED BY:
URL:https://stevebell.com/event/spruce-grove-solo-concert/
LOCATION:Holy Trinity Parish Hall\, 200 Boundary Rd\, Spruce Grove\, AB\, T7X 3A5\, Canada
CATEGORIES:Solo Concert
ATTACH;FMTTYPE=image/jpeg:https://stevebell.com/wp-content/uploads/Steve-Bell-Solo-Concert.jpg
END:VEVENT
END:VCALENDAR