BEGIN:VCALENDAR
VERSION:2.0
PRODID:-//Steve Bell - ECPv6.15.20//NONSGML v1.0//EN
CALSCALE:GREGORIAN
METHOD:PUBLISH
X-WR-CALNAME:Steve Bell
X-ORIGINAL-URL:https://stevebell.com
X-WR-CALDESC:Events for Steve Bell
REFRESH-INTERVAL;VALUE=DURATION:PT1H
X-Robots-Tag:noindex
X-PUBLISHED-TTL:PT1H
BEGIN:VTIMEZONE
TZID:America/Winnipeg
BEGIN:DAYLIGHT
TZOFFSETFROM:-0600
TZOFFSETTO:-0500
TZNAME:CDT
DTSTART:20180311T080000
END:DAYLIGHT
BEGIN:STANDARD
TZOFFSETFROM:-0500
TZOFFSETTO:-0600
TZNAME:CST
DTSTART:20181104T070000
END:STANDARD
BEGIN:DAYLIGHT
TZOFFSETFROM:-0600
TZOFFSETTO:-0500
TZNAME:CDT
DTSTART:20190310T080000
END:DAYLIGHT
BEGIN:STANDARD
TZOFFSETFROM:-0500
TZOFFSETTO:-0600
TZNAME:CST
DTSTART:20191103T070000
END:STANDARD
BEGIN:DAYLIGHT
TZOFFSETFROM:-0600
TZOFFSETTO:-0500
TZNAME:CDT
DTSTART:20200308T080000
END:DAYLIGHT
BEGIN:STANDARD
TZOFFSETFROM:-0500
TZOFFSETTO:-0600
TZNAME:CST
DTSTART:20201101T070000
END:STANDARD
END:VTIMEZONE
BEGIN:VTIMEZONE
TZID:America/Vancouver
BEGIN:DAYLIGHT
TZOFFSETFROM:-0800
TZOFFSETTO:-0700
TZNAME:PDT
DTSTART:20180311T100000
END:DAYLIGHT
BEGIN:STANDARD
TZOFFSETFROM:-0700
TZOFFSETTO:-0800
TZNAME:PST
DTSTART:20181104T090000
END:STANDARD
BEGIN:DAYLIGHT
TZOFFSETFROM:-0800
TZOFFSETTO:-0700
TZNAME:PDT
DTSTART:20190310T100000
END:DAYLIGHT
BEGIN:STANDARD
TZOFFSETFROM:-0700
TZOFFSETTO:-0800
TZNAME:PST
DTSTART:20191103T090000
END:STANDARD
BEGIN:DAYLIGHT
TZOFFSETFROM:-0800
TZOFFSETTO:-0700
TZNAME:PDT
DTSTART:20200308T100000
END:DAYLIGHT
BEGIN:STANDARD
TZOFFSETFROM:-0700
TZOFFSETTO:-0800
TZNAME:PST
DTSTART:20201101T090000
END:STANDARD
END:VTIMEZONE
BEGIN:VEVENT
DTSTART;TZID=America/Winnipeg:20190926T193000
DTEND;TZID=America/Winnipeg:20190926T193000
DTSTAMP:20260419T074352
CREATED:20190626T172920Z
LAST-MODIFIED:20190827T194014Z
UID:10000029-1569526200-1569526200@stevebell.com
SUMMARY:Gimli\, MB - Solo Concert
DESCRIPTION:An evening of tunes & tales from the journey with Steve Bell\, at Bayview Evangelical Free Church\, Gimli. \nOnline tickets now available (scroll down). More tickets available at Bayview Evangelical or by calling Linda Westman (local) at 204-643-5551. \nOrder toll-free at 1-800-854-3499.
URL:https://stevebell.com/event/gimli-mb/
LOCATION:Bayview Evangelical Free Church\, 8 South Colonization Road\, Gimli\, Manitoba\, Canada
CATEGORIES:Solo Concert
ATTACH;FMTTYPE=image/jpeg:https://stevebell.com/wp-content/uploads/Steve-Bell-Solo-Concert.jpg
GEO:50.6231517;-96.9909234
X-APPLE-STRUCTURED-LOCATION;VALUE=URI;X-ADDRESS=Bayview Evangelical Free Church 8 South Colonization Road Gimli Manitoba Canada;X-APPLE-RADIUS=500;X-TITLE=8 South Colonization Road:geo:-96.9909234,50.6231517
END:VEVENT
BEGIN:VEVENT
DTSTART;VALUE=DATE:20190916
DTEND;VALUE=DATE:20190917
DTSTAMP:20260419T074352
CREATED:20190802T153410Z
LAST-MODIFIED:20190802T153410Z
UID:10000036-1568592000-1568678399@stevebell.com
SUMMARY:Langley Christian School — Private Event
DESCRIPTION:
URL:https://stevebell.com/event/langley-christian-school-private-event/
LOCATION:ON
END:VEVENT
BEGIN:VEVENT
DTSTART;TZID=America/Vancouver:20190915T190000
DTEND;TZID=America/Vancouver:20190915T210000
DTSTAMP:20260419T074352
CREATED:20190802T152009Z
LAST-MODIFIED:20190802T161339Z
UID:10000051-1568574000-1568581200@stevebell.com
SUMMARY:Langley\, BC — Solo Concert
DESCRIPTION:An evening of tunes and tales from the journey with Steve Bell\, featuring old favourites as well as music from his newest album\, Where the Good Way Lies.\nConcert brought to you by Langley Christian School\, and hosted at Bethel Mennonite Church. \nTickets available online (see below).\nTickets will also be available at Langley Christian Middle/High Campus beginning August 19th.\nFor phone orders\, call Signpost Music toll-free at 1-800-854-3499. \nTo see a video of Steve in action\, click HERE
URL:https://stevebell.com/event/langley-bc-solo-concert-2/
LOCATION:Bethel Mennonite Church\, 24687 56 Ave\, Langley\, BC\, V2Z 1B9\, Canada
CATEGORIES:Solo Concert
ATTACH;FMTTYPE=image/jpeg:https://stevebell.com/wp-content/uploads/Steve-Bell-Solo-Concert.jpg
END:VEVENT
BEGIN:VEVENT
DTSTART;VALUE=DATE:20190914
DTEND;VALUE=DATE:20190916
DTSTAMP:20260419T074352
CREATED:20190626T173903Z
LAST-MODIFIED:20190626T173903Z
UID:10000032-1568419200-1568591999@stevebell.com
SUMMARY:Denver\, CO - AVAILABLE DATES
DESCRIPTION:SEPTEMBER 14 or 15:  Ideas? Contact us https://stevebell.com/booking/
URL:https://stevebell.com/event/denver-co-available-dates/
LOCATION:ON
END:VEVENT
BEGIN:VEVENT
DTSTART;VALUE=DATE:20190913
DTEND;VALUE=DATE:20190914
DTSTAMP:20260419T074352
CREATED:20190626T173715Z
LAST-MODIFIED:20190626T173715Z
UID:10000031-1568332800-1568419199@stevebell.com
SUMMARY:Denver\, CO - Private Event
DESCRIPTION:Westmont College Fundraising Event
URL:https://stevebell.com/event/denver-co-private-event/
LOCATION:ON
END:VEVENT
BEGIN:VEVENT
DTSTART;VALUE=DATE:20190822
DTEND;VALUE=DATE:20190823
DTSTAMP:20260419T074352
CREATED:20190814T173718Z
LAST-MODIFIED:20190814T201418Z
UID:10000052-1566432000-1566518399@stevebell.com
SUMMARY:Special Concert in Winnipeg
DESCRIPTION:Looking for a summer concert? Next Thursday\, in Winnipeg\, I’m performing my only concert of the summer in support of my buddy Kyle Mason who is running for federal office in the coming election (hoping to represent Winnipeg North.) He’s from the neighbourhood\, has a long history of service and I think he’ll do a great job. \nThe concert will not be a political rally\, but Kyle will take a moment to introduce himself in hopes of winning some financial and voter support. \nI’m looking forward to finally getting a chance to hear The Janzen Boys who will also be performing. It’ll be a casual and fun night. Hope to see you out! \nSteve Bell in Concert\n(Featuring The Janzen Boys)
URL:https://stevebell.com/event/special-concert-in-winnipeg/
LOCATION:ON
ATTACH;FMTTYPE=image/jpeg:https://stevebell.com/wp-content/uploads/Kyle-Concert.jpg
END:VEVENT
BEGIN:VEVENT
DTSTART;VALUE=DATE:20190808
DTEND;VALUE=DATE:20190810
DTSTAMP:20260419T074352
CREATED:20190626T173459Z
LAST-MODIFIED:20190802T153306Z
UID:10000030-1565222400-1565395199@stevebell.com
SUMMARY:Indianapolis\, IN - Conference
DESCRIPTION:Regretfully\, Steve has had to bow out of this event due to the passing of his father. \n  \nSteve was scheduled to make a special appearance alongside his friend and poet\, Malcolm Guite at The North American Lutheran Church–Lutheran Week. \nMore info: https://thenalc.org/event/lutheran-week/ \n 
URL:https://stevebell.com/event/indianapolis-in-conference/
LOCATION:ON
CATEGORIES:Steve Bell & Malcolm Guite
END:VEVENT
BEGIN:VEVENT
DTSTART;VALUE=DATE:20190602
DTEND;VALUE=DATE:20190603
DTSTAMP:20260419T074352
CREATED:20190104T213032Z
LAST-MODIFIED:20190104T213032Z
UID:10000008-1559433600-1559519999@stevebell.com
SUMMARY:Morden\, MB - Back 40 Festival
DESCRIPTION:Back 40 Folk Festival (Steve Bell with Gilles Fournier & Murray Pulver) 
URL:https://stevebell.com/event/morden-mb-back-40-festival/
LOCATION:ON
CATEGORIES:Special Guest Appearance
END:VEVENT
BEGIN:VEVENT
DTSTART;VALUE=DATE:20190601
DTEND;VALUE=DATE:20190602
DTSTAMP:20260419T074352
CREATED:20190104T212903Z
LAST-MODIFIED:20190104T212903Z
UID:10000006-1559347200-1559433599@stevebell.com
SUMMARY:Morden\, MB - Private Event
DESCRIPTION:
URL:https://stevebell.com/event/morden-mb-private-event/
LOCATION:ON
CATEGORIES:Private Event
END:VEVENT
BEGIN:VEVENT
DTSTART;VALUE=DATE:20190531
DTEND;VALUE=DATE:20190601
DTSTAMP:20260419T074352
CREATED:20190104T212805Z
LAST-MODIFIED:20190104T212805Z
UID:10000004-1559260800-1559347199@stevebell.com
SUMMARY:AVAILABLE DATE - Southern Manitoba Area Only
DESCRIPTION:For more information\, contact Dave Zeglinski at dave@signpostmusic.com
URL:https://stevebell.com/event/available-date-southern-manitoba-area-only/
LOCATION:ON
CATEGORIES:Solo Concert
END:VEVENT
BEGIN:VEVENT
DTSTART;VALUE=DATE:20190513
DTEND;VALUE=DATE:20190518
DTSTAMP:20260419T074352
CREATED:20190222T151932Z
LAST-MODIFIED:20190331T171315Z
UID:10000025-1557705600-1558137599@stevebell.com
SUMMARY:Five Traditions and Practices of Prayer Course
DESCRIPTION:Regent College Course withBruce Hindmarsh & Steve Bell. \nExplore five prayer traditions from church history: the short\, frequent prayers of the Desert Fathers; the liturgical collect in the Book of Common Prayer; the Lord’s Prayer as taught by Martin Luther and C. S. Lewis; and the Jesuit and Puritan examen of conscience\, as well as their use of imagination in disciplined meditation. Through study\, discussion\, music\, and a guided retreat\, learn to live the rich history of prayer. \nMay 13–May 17\n8:30AM–11:30AM\n2–3 Credits: $990–$1485\nAudit: $700\n\n\nFor more information and to register\, Click Here
URL:https://stevebell.com/event/five-traditions-and-practices-of-prayer-course/
LOCATION:Regent College\, Vancouver\, BC\, Canada
CATEGORIES:Course
ATTACH;FMTTYPE=image/png:https://stevebell.com/wp-content/uploads/Summer-2019-FB-Bruce-Hindmarsh-2.png
END:VEVENT
BEGIN:VEVENT
DTSTART;VALUE=DATE:20190505
DTEND;VALUE=DATE:20190506
DTSTAMP:20260419T074352
CREATED:20190104T212401Z
LAST-MODIFIED:20190104T214538Z
UID:10000003-1557014400-1557100799@stevebell.com
SUMMARY:AVAILABLE DATE - Southern Ontario Area Only
DESCRIPTION:For more information contact Dave Zeglinski at dave@signpostmusic.com
URL:https://stevebell.com/event/available-date-ontario-area-only/
LOCATION:ON
CATEGORIES:Solo Concert
END:VEVENT
BEGIN:VEVENT
DTSTART;VALUE=DATE:20190503
DTEND;VALUE=DATE:20190505
DTSTAMP:20260419T074352
CREATED:20190104T215822Z
LAST-MODIFIED:20190116T153604Z
UID:10000016-1556841600-1557014399@stevebell.com
SUMMARY:Kingfisher Bay Retreat Centre\, ON - For the Journey Retreat
DESCRIPTION:An amazing opportunity to experience For the Journey in an overnight retreat setting. Come for the retreat during the day only or stay overnight at the Kingfisher Bay Retreat in beautiful North Kawartha\, ON  \n 
URL:https://stevebell.com/event/kingfisher-bay-retreat-centre-for-the-journey-retreat/
LOCATION:ON
ATTACH;FMTTYPE=image/jpeg:https://stevebell.com/wp-content/uploads/Retreat-Header.jpg
END:VEVENT
BEGIN:VEVENT
DTSTART;VALUE=DATE:20190502
DTEND;VALUE=DATE:20190503
DTSTAMP:20260419T074352
CREATED:20190104T220213Z
LAST-MODIFIED:20190104T220213Z
UID:10000018-1556755200-1556841599@stevebell.com
SUMMARY:AVAILABLE DATE - SOUTHERN ONTARIO AREA ONLY
DESCRIPTION:Thoughts? Ideas? Contact dave@signpostmusic.com \n 
URL:https://stevebell.com/event/available-date-southern-ontario-area-only/
LOCATION:ON
END:VEVENT
BEGIN:VEVENT
DTSTART;TZID=America/Winnipeg:20190425T193000
DTEND;TZID=America/Winnipeg:20190425T193000
DTSTAMP:20260419T074352
CREATED:20190104T215557Z
LAST-MODIFIED:20190320T185346Z
UID:10000014-1556220600-1556220600@stevebell.com
SUMMARY:Sechelt\, BC - Solo Concert
DESCRIPTION:An evening of tunes & tales from the journey with Steve Bell – a fundraising concert for RainCity Housing (homeless shelter). Sponsored by Calvary Baptist Church of Gibsons\, Christ the King Church\, Christian Life Assembly\, Christ the Redeemer Anglican Church\, Grace Covenant Church\, Pender Harbour Community Church\, Crossroads Community Church and Bethel Baptist Church. \nTickets available online (scroll down) and at Calvary Baptist Church\, LAEDELI GIFTS  in Gibsons and Strait Music in Sechelt.
URL:https://stevebell.com/event/available-dates-bc-washington-oregon-areas/
LOCATION:Raven’s Cry Theatre\, 5555 Sunshine Coast Hwy\, Sechelt\, BC\, Canada
CATEGORIES:Solo Concert
ATTACH;FMTTYPE=image/jpeg:https://stevebell.com/wp-content/uploads/Steve-Bell-Solo-Concert.jpg
END:VEVENT
BEGIN:VEVENT
DTSTART;TZID=America/Winnipeg:20190418T193000
DTEND;TZID=America/Winnipeg:20190418T193000
DTSTAMP:20260419T074352
CREATED:20190326T164307Z
LAST-MODIFIED:20190417T162251Z
UID:10000026-1555615800-1555615800@stevebell.com
SUMMARY:Benefit Concert for Daryl Hiebert
DESCRIPTION:‘Brother Love: An Evening of Song in Support of Daryl Hiebert’ will take place on Thursday\, April 18 at Covenant Christian Reformed Church (653 Knowles Ave.). \nA Benefit Concert Featuring Steve Bell\, Scott Nolan\, William Prince & Don Amero \nThe benefit concert will celebrate Daryl’s contributions to the local music scene and help raise some additional funds for the family. Daryl is a man who loves music more than anything in life (other than Corrie and his girls\, obviously!). Over the past decade\, he has worked with legendary Winnipeg recording artists such as Steve Bell\, Scott Nolan\, William Prince and Don Amero. He has designed album covers\, built websites\, overseen photo shoots\, helped create music videos\, provided strategic marketing support – and the four of them want to show their appreciation by holding an event in his honour. \nTickets cost $35 and can be purchased here\, with 100% of the proceeds going directly to Daryl and Corrie. Daryl has a rare form of cancer\, and has been unable to work to support his family (three young children). \nDaryl Hiebert worked for several years at Signpost Music with Steve Bell as web designer. He is a valued friend. \nHere is a link to the GoFundMe page with more details. \nScroll down to order tickets… \nTICKETS WILL BE AVAILABLE AT THE DOOR. DOORS OPEN AT 7 PM.
URL:https://stevebell.com/event/a-fundraising-concert-for-daryl-hiebert/
LOCATION:Covenant Reformed Church\, 653 Knowles Ave.\, Winnipeg\, Manitoba\, Canada
ATTACH;FMTTYPE=image/jpeg:https://stevebell.com/wp-content/uploads/Daryl-Poster-Benefit-Concert-Facebook-Cover-Photo.jpg
END:VEVENT
BEGIN:VEVENT
DTSTART;VALUE=DATE:20190414
DTEND;VALUE=DATE:20190415
DTSTAMP:20260419T074352
CREATED:20190104T224052Z
LAST-MODIFIED:20190104T224708Z
UID:10000020-1555200000-1555286399@stevebell.com
SUMMARY:AVAILABLE DATE - SOUTHERN ONTARIO AREA ONLY
DESCRIPTION:Thoughts? Ideas? Contact dave@signpostmusic.com
URL:https://stevebell.com/event/available-date-southern-ontario-area-only-2/
LOCATION:ON
END:VEVENT
BEGIN:VEVENT
DTSTART;TZID=America/Winnipeg:20190412T193000
DTEND;TZID=America/Winnipeg:20190413T153000
DTSTAMP:20260419T074352
CREATED:20190105T020421Z
LAST-MODIFIED:20190105T020421Z
UID:10000022-1555097400-1555169400@stevebell.com
SUMMARY:For The Journey Retreat – Ottawa\, ON
DESCRIPTION:FOR THE JOURNEY – Retreat with host Steve Bell Refreshing Christian faith and spiritual tradition for the weary and the wary. Steve explores the fertile tradition and spirituality of a Trinitarian faith\, navigating a pattern for corporate worship in tandem with the Christian calendar year\, the Hebrew psalms\, and ancient prayers of the church.
URL:https://stevebell.com/event/for-the-journey-retreat-ottawa-on/
LOCATION:ON
CATEGORIES:For the Journey Retreat
ATTACH;FMTTYPE=image/jpeg:https://stevebell.com/wp-content/uploads/Retreat-Header.jpg
END:VEVENT
BEGIN:VEVENT
DTSTART;TZID=America/Winnipeg:20190411T190000
DTEND;TZID=America/Winnipeg:20190411T190000
DTSTAMP:20260419T074352
CREATED:20190104T212106Z
LAST-MODIFIED:20190409T160848Z
UID:10000002-1555009200-1555009200@stevebell.com
SUMMARY:Cornwall\, ON - Solo Concert
DESCRIPTION:An evening of tunes & tales with Steve Bell. \nTickets are now available online (scroll down). \nTICKETS WILL BE AVAILABLE AT THE DOOR. \n 
URL:https://stevebell.com/event/cornwall-on-solo-concert/
LOCATION:First Baptist Church\, Cornwall\, 310 York Street\, Cornwall\, Ontario\, Canada
CATEGORIES:Solo Concert
ATTACH;FMTTYPE=image/jpeg:https://stevebell.com/wp-content/uploads/Concert-Image-WEB-3.jpeg
END:VEVENT
BEGIN:VEVENT
DTSTART;VALUE=DATE:20190408
DTEND;VALUE=DATE:20190409
DTSTAMP:20260419T074352
CREATED:20190104T215159Z
LAST-MODIFIED:20190104T215159Z
UID:10000012-1554681600-1554767999@stevebell.com
SUMMARY:Peace River\, AB - Private Event
DESCRIPTION:Peace River Faith Day – Private Event (Catholic School Staff Retreat)
URL:https://stevebell.com/event/peace-river-ab-private-event/
LOCATION:ON
CATEGORIES:Private Event
END:VEVENT
BEGIN:VEVENT
DTSTART;TZID=America/Winnipeg:20190406T190000
DTEND;TZID=America/Winnipeg:20190406T190000
DTSTAMP:20260419T074352
CREATED:20190213T191549Z
LAST-MODIFIED:20190402T155156Z
UID:10000024-1554577200-1554577200@stevebell.com
SUMMARY:Spruce Grove - Solo Concert
DESCRIPTION:An evening of tunes & tales from the journey with Steve Bell\, sponsored by The Catholic Archdiocese of Edmonton. \nTickets are now available online (scroll down). More tickets available at Holy Trinity Parish or A Gift of Faith Bookstore. \nTICKETS WILL BE AVAILABLE AT THE DOOR.  \nSPONSORED BY:
URL:https://stevebell.com/event/spruce-grove-solo-concert/
LOCATION:Holy Trinity Parish Hall\, 200 Boundary Rd\, Spruce Grove\, AB\, T7X 3A5\, Canada
CATEGORIES:Solo Concert
ATTACH;FMTTYPE=image/jpeg:https://stevebell.com/wp-content/uploads/Steve-Bell-Solo-Concert.jpg
END:VEVENT
END:VCALENDAR