BEGIN:VCALENDAR
VERSION:2.0
PRODID:-//Steve Bell - ECPv6.15.20//NONSGML v1.0//EN
CALSCALE:GREGORIAN
METHOD:PUBLISH
X-WR-CALNAME:Steve Bell
X-ORIGINAL-URL:https://stevebell.com
X-WR-CALDESC:Events for Steve Bell
REFRESH-INTERVAL;VALUE=DURATION:PT1H
X-Robots-Tag:noindex
X-PUBLISHED-TTL:PT1H
BEGIN:VTIMEZONE
TZID:America/Winnipeg
BEGIN:DAYLIGHT
TZOFFSETFROM:-0600
TZOFFSETTO:-0500
TZNAME:CDT
DTSTART:20210314T080000
END:DAYLIGHT
BEGIN:STANDARD
TZOFFSETFROM:-0500
TZOFFSETTO:-0600
TZNAME:CST
DTSTART:20211107T070000
END:STANDARD
BEGIN:DAYLIGHT
TZOFFSETFROM:-0600
TZOFFSETTO:-0500
TZNAME:CDT
DTSTART:20220313T080000
END:DAYLIGHT
BEGIN:STANDARD
TZOFFSETFROM:-0500
TZOFFSETTO:-0600
TZNAME:CST
DTSTART:20221106T070000
END:STANDARD
BEGIN:DAYLIGHT
TZOFFSETFROM:-0600
TZOFFSETTO:-0500
TZNAME:CDT
DTSTART:20230312T080000
END:DAYLIGHT
BEGIN:STANDARD
TZOFFSETFROM:-0500
TZOFFSETTO:-0600
TZNAME:CST
DTSTART:20231105T070000
END:STANDARD
END:VTIMEZONE
BEGIN:VEVENT
DTSTART;TZID=America/Winnipeg:20220526T193000
DTEND;TZID=America/Winnipeg:20220526T193000
DTSTAMP:20260424T121946
CREATED:20220310T142419Z
LAST-MODIFIED:20220331T141213Z
UID:10000009-1653593400-1653593400@stevebell.com
SUMMARY:Winnipeg\, MB - Steve Bell and Malcolm Guite
DESCRIPTION:An evening of music and poetry with Steve Bell and Malcolm Guite at the West End Cultural Centre\, 586 Ellice Ave. \nTickets $29 (plus $2 convenience fee and GST) are available online only here on Steve’s website (scroll down to order). \n  \n“To experience Steve and Malcolm in concert is to be given a glimpse of the creative process in action.” —Rev. Jamie Howison \nThe West End Cultural Centre will continue to require that patrons wear facemasks and show proof of vaccination for all events in the venue.\nThey will continue to evaluate this policy as circumstances evolve.\nIn the event of concert cancellation\, tickets will be refunded.
URL:https://stevebell.com/event/winnipeg-mb-steve-bell-and-malcolm-guite/
LOCATION:West End Cultural Centre\, 586 Ellice Ave.\, Winnipeg\, Manitoba\, Canada
CATEGORIES:Steve Bell & Malcolm Guite
ATTACH;FMTTYPE=image/png:https://stevebell.com/wp-content/uploads/steve-malcolm-wecc-no-text.png
END:VEVENT
BEGIN:VEVENT
DTSTART;TZID=America/Winnipeg:20220530T083000
DTEND;TZID=America/Winnipeg:20220603T083000
DTSTAMP:20260424T121946
CREATED:20220310T145245Z
LAST-MODIFIED:20220310T145422Z
UID:10000021-1653899400-1654245000@stevebell.com
SUMMARY:Vancouver\, BC - Regent College Summer Program
DESCRIPTION:MAY 30 – JUNE 3 \nJourney into the riches and mystery of the liturgical year with Steve Bell and Malcolm Guite. Using their original poetry and music as well as other biblical and theological resources\, they will open up the riches and the meaning of the great seasons of the church’s year from Advent through Epiphany\, Lent\, and Easter\, on to Pentecost and the feast of Christ the King. \nIn-Person\, Online & Recorded: This course is being offered in-person at Regent College and online for Summer Programs 2022. Students may choose to take this course in-person or online when registering for the course through REGIS. Note that in person space may be limited. In order to support students who are unable to attend the regular online class sessions\, recordings will be made available on the course Moodle page for 48 hours following each class. In some cases\, attendance at other sessions may be required. \nFor more information or to sign up\, click HERE.
URL:https://stevebell.com/event/vancouver-bc-regent-college-summer-program/
LOCATION:Regent College\, Vancouver\, BC\, Canada
CATEGORIES:Course
ATTACH;FMTTYPE=image/png:https://stevebell.com/wp-content/uploads/Steve_Malcolm.png
END:VEVENT
END:VCALENDAR