BEGIN:VCALENDAR
VERSION:2.0
PRODID:-//Steve Bell - ECPv6.15.20//NONSGML v1.0//EN
CALSCALE:GREGORIAN
METHOD:PUBLISH
X-WR-CALNAME:Steve Bell
X-ORIGINAL-URL:https://stevebell.com
X-WR-CALDESC:Events for Steve Bell
REFRESH-INTERVAL;VALUE=DURATION:PT1H
X-Robots-Tag:noindex
X-PUBLISHED-TTL:PT1H
BEGIN:VTIMEZONE
TZID:America/Winnipeg
BEGIN:DAYLIGHT
TZOFFSETFROM:-0600
TZOFFSETTO:-0500
TZNAME:CDT
DTSTART:20210314T080000
END:DAYLIGHT
BEGIN:STANDARD
TZOFFSETFROM:-0500
TZOFFSETTO:-0600
TZNAME:CST
DTSTART:20211107T070000
END:STANDARD
BEGIN:DAYLIGHT
TZOFFSETFROM:-0600
TZOFFSETTO:-0500
TZNAME:CDT
DTSTART:20220313T080000
END:DAYLIGHT
BEGIN:STANDARD
TZOFFSETFROM:-0500
TZOFFSETTO:-0600
TZNAME:CST
DTSTART:20221106T070000
END:STANDARD
BEGIN:DAYLIGHT
TZOFFSETFROM:-0600
TZOFFSETTO:-0500
TZNAME:CDT
DTSTART:20230312T080000
END:DAYLIGHT
BEGIN:STANDARD
TZOFFSETFROM:-0500
TZOFFSETTO:-0600
TZNAME:CST
DTSTART:20231105T070000
END:STANDARD
END:VTIMEZONE
BEGIN:VEVENT
DTSTART;TZID=America/Winnipeg:20221117T193000
DTEND;TZID=America/Winnipeg:20221117T213000
DTSTAMP:20260422T153644
CREATED:20220928T150127Z
LAST-MODIFIED:20221114T165054Z
UID:10000076-1668713400-1668720600@stevebell.com
SUMMARY:Gimli\, MB — Solo Concert
DESCRIPTION:Steve will be hosting an evening of story and song\, featuring music from his latest album\, “Wouldn’t You Love to Know\,” as well as classics and favourites. Tickets available online here\, as well as at Johnson’s Store and Bayview E-Free Church (204-642-9871). Tickets will also be for sale at the door. \nFor a preview of Steve’s concerts\, see below. Feel free to share. \nhttps://youtu.be/n8v-Xw4nByw \nThis concert is sponsored in part by:\nSUGAR ME COOKIE\nSTRINGERS BUTTER TART LADY\nROBIN’S DONUTS LMT VET SERVICES\nK.C. ENTERPRISES\nLIGHTHOUSE ACCOUNTING\nHOME HARDWARE GIMLI
URL:https://stevebell.com/event/gimli-mb-solo-concert/
LOCATION:Bayview Evangelical Free Church\, 8 South Colonization Road\, Gimli\, Manitoba\, Canada
CATEGORIES:Solo Concert
ATTACH;FMTTYPE=image/png:https://stevebell.com/wp-content/uploads/sb-2022-poster.png
GEO:50.6231517;-96.9909234
X-APPLE-STRUCTURED-LOCATION;VALUE=URI;X-ADDRESS=Bayview Evangelical Free Church 8 South Colonization Road Gimli Manitoba Canada;X-APPLE-RADIUS=500;X-TITLE=8 South Colonization Road:geo:-96.9909234,50.6231517
END:VEVENT
BEGIN:VEVENT
DTSTART;TZID=America/Winnipeg:20221118T193000
DTEND;TZID=America/Winnipeg:20221118T213000
DTSTAMP:20260422T153644
CREATED:20220907T143608Z
LAST-MODIFIED:20221104T141830Z
UID:10000069-1668799800-1668807000@stevebell.com
SUMMARY:Winkler\, MB — Solo Concert
DESCRIPTION:An evening of story and song\, featuring music from Steve’s latest album\, “Wouldn’t You Love to Know\,” as well as classics and favourites. This concert is in support of Pembina Counselling Centre. Tickets available online now\, as well as through Pembina Counselling Centre (204-822-6622) and at the door on concert night. \nTo watch a preview of Steve’s concerts\, see below. \nhttps://youtu.be/mwRF76XWzAM \nThis concert is sponsored in part by Winkler Auto Dealers\, Valley Bakery and Krahn Friesen Neufeld Chartered Professional Accountants. \n  \n 
URL:https://stevebell.com/event/winkler-mb-solo-concert-2/
LOCATION:Winkler MB Church\, 120 Pineview Drive\, Winkler\, Manitoba\, R6W 1T3\, Canada
CATEGORIES:Solo Concert
ATTACH;FMTTYPE=image/png:https://stevebell.com/wp-content/uploads/2022-poster-pic-fixed-tooth.png
GEO:49.1765335;-97.9504476
X-APPLE-STRUCTURED-LOCATION;VALUE=URI;X-ADDRESS=Winkler MB Church 120 Pineview Drive Winkler Manitoba R6W 1T3 Canada;X-APPLE-RADIUS=500;X-TITLE=120 Pineview Drive:geo:-97.9504476,49.1765335
END:VEVENT
BEGIN:VEVENT
DTSTART;TZID=America/Winnipeg:20221119T193000
DTEND;TZID=America/Winnipeg:20221119T213000
DTSTAMP:20260422T153644
CREATED:20220907T143812Z
LAST-MODIFIED:20221024T153314Z
UID:10000070-1668886200-1668893400@stevebell.com
SUMMARY:Steinbach\, MB — Solo Concert
DESCRIPTION:An evening of story and song\, featuring music from Steve’s latest album\, “Wouldn’t You Love to Know\,” as well as Steve Bell classics and favourites. Tickets available online now\, as well as through Grace Mennonite Church (204-326-3707). \nTo watch a preview of Steve’s concerts\, see below. \nhttps://youtu.be/9bL_0ooMuQ8
URL:https://stevebell.com/event/steinbach-mb-solo-concert/
LOCATION:Grace Mennonite Church\, 430 Third Street\, Steinbach\, MB\, R5G 0K5\, Canada
CATEGORIES:Solo Concert
ATTACH;FMTTYPE=image/png:https://stevebell.com/wp-content/uploads/2022-poster-pic-fixed-tooth.png
END:VEVENT
BEGIN:VEVENT
DTSTART;TZID=America/Winnipeg:20221127T193000
DTEND;TZID=America/Winnipeg:20221127T213000
DTSTAMP:20260422T153644
CREATED:20220728T145913Z
LAST-MODIFIED:20221123T181119Z
UID:10000015-1669577400-1669584600@stevebell.com
SUMMARY:Winnipeg\, MB — Solo Concert
DESCRIPTION:THIS CONCERT IS SOLD OUT.\nThanks for your support Winnipeg.
URL:https://stevebell.com/event/winnipeg-mb-advent-christmas-concert/
LOCATION:Whyte Ridge Baptist Chuch\, 2405 McGillivray Blvd\, Winnipeg\, MB\, R3Y 1G6\, Canada
CATEGORIES:Solo Concert
ATTACH;FMTTYPE=image/png:https://stevebell.com/wp-content/uploads/2022-poster-pic-fixed-tooth.png
END:VEVENT
END:VCALENDAR