BEGIN:VCALENDAR
VERSION:2.0
PRODID:-//Steve Bell - ECPv6.15.20//NONSGML v1.0//EN
CALSCALE:GREGORIAN
METHOD:PUBLISH
X-WR-CALNAME:Steve Bell
X-ORIGINAL-URL:https://stevebell.com
X-WR-CALDESC:Events for Steve Bell
REFRESH-INTERVAL;VALUE=DURATION:PT1H
X-Robots-Tag:noindex
X-PUBLISHED-TTL:PT1H
BEGIN:VTIMEZONE
TZID:America/Edmonton
BEGIN:DAYLIGHT
TZOFFSETFROM:-0700
TZOFFSETTO:-0600
TZNAME:MDT
DTSTART:20220313T090000
END:DAYLIGHT
BEGIN:STANDARD
TZOFFSETFROM:-0600
TZOFFSETTO:-0700
TZNAME:MST
DTSTART:20221106T080000
END:STANDARD
BEGIN:DAYLIGHT
TZOFFSETFROM:-0700
TZOFFSETTO:-0600
TZNAME:MDT
DTSTART:20230312T090000
END:DAYLIGHT
BEGIN:STANDARD
TZOFFSETFROM:-0600
TZOFFSETTO:-0700
TZNAME:MST
DTSTART:20231105T080000
END:STANDARD
BEGIN:DAYLIGHT
TZOFFSETFROM:-0700
TZOFFSETTO:-0600
TZNAME:MDT
DTSTART:20240310T090000
END:DAYLIGHT
BEGIN:STANDARD
TZOFFSETFROM:-0600
TZOFFSETTO:-0700
TZNAME:MST
DTSTART:20241103T080000
END:STANDARD
END:VTIMEZONE
BEGIN:VTIMEZONE
TZID:America/Winnipeg
BEGIN:DAYLIGHT
TZOFFSETFROM:-0600
TZOFFSETTO:-0500
TZNAME:CDT
DTSTART:20220313T080000
END:DAYLIGHT
BEGIN:STANDARD
TZOFFSETFROM:-0500
TZOFFSETTO:-0600
TZNAME:CST
DTSTART:20221106T070000
END:STANDARD
BEGIN:DAYLIGHT
TZOFFSETFROM:-0600
TZOFFSETTO:-0500
TZNAME:CDT
DTSTART:20230312T080000
END:DAYLIGHT
BEGIN:STANDARD
TZOFFSETFROM:-0500
TZOFFSETTO:-0600
TZNAME:CST
DTSTART:20231105T070000
END:STANDARD
BEGIN:DAYLIGHT
TZOFFSETFROM:-0600
TZOFFSETTO:-0500
TZNAME:CDT
DTSTART:20240310T080000
END:DAYLIGHT
BEGIN:STANDARD
TZOFFSETFROM:-0500
TZOFFSETTO:-0600
TZNAME:CST
DTSTART:20241103T070000
END:STANDARD
END:VTIMEZONE
BEGIN:VTIMEZONE
TZID:America/Regina
BEGIN:STANDARD
TZOFFSETFROM:-0600
TZOFFSETTO:-0600
TZNAME:CST
DTSTART:20220101T000000
END:STANDARD
END:VTIMEZONE
BEGIN:VEVENT
DTSTART;TZID=America/Edmonton:20230421T193000
DTEND;TZID=America/Edmonton:20230422T153000
DTSTAMP:20260422T091039
CREATED:20230127T153105Z
LAST-MODIFIED:20230421T144018Z
UID:10000083-1682105400-1682177400@stevebell.com
SUMMARY:For the Journey Retreat Calgary
DESCRIPTION:FOR THE JOURNEY – Retreat with host Steve Bell\nRefreshing Christian faith and spiritual tradition for the weary and the wary. \nSteve explores the fertile tradition and spirituality of a Trinitarian faith\, navigating a pattern for corporate worship in tandem with the Christian calendar year\, the Hebrew psalms\, and the ancient prayers of the church. \nApril 21\, 2023 7:30PM – 9:00PM  &\nApril 22\, 2023 9:00AM – 3:30PM\nVarsity Bible Church\, 4807 Valiant Dr NW T3A 0Y3 \n* Please note that there was an error on the church name for postcards that were mailed to individual households. The above address is correct (Varsity Bible Church). We apologize for any confusion. \nRegular Price: $129 \nONLINE REGISTRATION IS NOW CLOSED\, BUT THERE ARE STILL SPACES AVAILABLE FOR REGISTRATION AT THE DOOR. Doors open at 6:30pm on Friday April 21st.  \nCANCELLATION POLICY:\nFull refunds less a 20% admin fee will be granted for requests made at least one week prior to event. If you are unable to attend\, you may transfer your registration to another person. Refunds cannot be granted for the catered lunches.
URL:https://stevebell.com/event/for-the-journey-retreat-calgary/
LOCATION:Varsity Bible Church\, 4807 Valiant Dr NW\, Calgary\, AB\, T3A 0Y3\, Canada
CATEGORIES:For the Journey Retreat
ATTACH;FMTTYPE=image/png:https://stevebell.com/wp-content/uploads/Steve-bell-journey-retreat.png
END:VEVENT
BEGIN:VEVENT
DTSTART;TZID=America/Winnipeg:20230428T193000
DTEND;TZID=America/Winnipeg:20230428T213000
DTSTAMP:20260422T091039
CREATED:20230222T174359Z
LAST-MODIFIED:20230426T160657Z
UID:10000091-1682710200-1682717400@stevebell.com
SUMMARY:The Psalms Project: With Mike Janzen and Special Guest Steve Bell
DESCRIPTION:Signpost Music Presents The Psalms Project: Mike Janzen in Concert with Erin Propp\, members of the WSO String Orchestra\, and the Horizon Choir. Featuring special guest Steve Bell. \n“Gorgeous\, an oasis for the Spirit.” — Laila Biali\, JUNO winner\n“A concert for the ages.” — Jane Harbury\, Canadian Publicist \nLocation: Burton Cummings Theatre (364 Smith Street\, Winnipeg)\nTickets range from $40-$73\, available through www.ticketmaster.ca \nTICKETS WILL ALSO BE AVAILABLE AT THE DOOR \n  \nA message from Steve: \nMike Janzen is the composer/arranger who has garnered enthusiastic accolades nation-wide for his brilliant symphony scores of my music. But he is also a much-celebrated improvisational pianist and a deeply thoughtful songwriter. \nMike has recently released a multi-album project of songs inspired by the Hebrew Psalms that can only be described as masterful. His own devotion and theological depth are evident throughout. \nI know many folks who attended the sold-out premier in Toronto in the late fall. All had difficulty finding words to describe the profundity and beauty of the evening. I hope you’ll come out and encourage your congregations as well. \nTo preview a song from Mike’s Psalms Project\, click here:
URL:https://stevebell.com/event/the-psalms-project-with-mike-janzen-and-special-guest-steve-bell/
LOCATION:Burton Cummings Theatre\, 364 Smith Street\, Winnipeg\, MB\, Canada
CATEGORIES:Special Guest Appearance
ATTACH;FMTTYPE=image/png:https://stevebell.com/wp-content/uploads/Screen-Shot-2023-02-22-at-11.34.59-AM.png
END:VEVENT
BEGIN:VEVENT
DTSTART;TZID=America/Regina:20230429T193000
DTEND;TZID=America/Regina:20230429T213000
DTSTAMP:20260422T091039
CREATED:20230213T175538Z
LAST-MODIFIED:20230310T180731Z
UID:10000090-1682796600-1682803800@stevebell.com
SUMMARY:Regina\, SK — Solo Concert
DESCRIPTION:An evening of story and song\, featuring music from Steve’s latest album\, “Wouldn’t You Love to Know\,” as well as Steve Bell classics and favourites. Hosted by Westhill Park Baptist Church at 8025 Sherwood Drive. Tickets available online here\, as well as through Westhill Park Church (306-775-1616). Tickets will also be available at the door on concert night. \nFor a preview of Steve in action\, click here: \nhttps://youtu.be/Ca-ae7wnj_Q \n 
URL:https://stevebell.com/event/solo-concert-steve-bell/
LOCATION:Westhill Park Baptist Church\, 8025 Sherwood Drive\, Regina\, SK\, S4Y 1G1\, Canada
CATEGORIES:Solo Concert
ATTACH;FMTTYPE=image/png:https://stevebell.com/wp-content/uploads/2022-Poster-Pic.png
END:VEVENT
BEGIN:VEVENT
DTSTART;TZID=America/Regina:20230430T190000
DTEND;TZID=America/Regina:20230430T210000
DTSTAMP:20260422T091039
CREATED:20230324T165947Z
LAST-MODIFIED:20230426T160553Z
UID:10000093-1682881200-1682888400@stevebell.com
SUMMARY:Estevan\, SK – Solo Concert
DESCRIPTION:THIS EVENT HAS BEEN CANCELLED
URL:https://stevebell.com/event/estevan-sk-solo-concert/
LOCATION:St. Giles Anglican Church\, 317 12th Avenue\, Estevan\, SK\, S4A 1E3\, Canada
CATEGORIES:Solo Concert
ATTACH;FMTTYPE=image/png:https://stevebell.com/wp-content/uploads/sb-2022-poster.png
END:VEVENT
END:VCALENDAR