BEGIN:VCALENDAR
VERSION:2.0
PRODID:-//Steve Bell - ECPv6.15.20//NONSGML v1.0//EN
CALSCALE:GREGORIAN
METHOD:PUBLISH
X-ORIGINAL-URL:https://stevebell.com
X-WR-CALDESC:Events for Steve Bell
REFRESH-INTERVAL;VALUE=DURATION:PT1H
X-Robots-Tag:noindex
X-PUBLISHED-TTL:PT1H
BEGIN:VTIMEZONE
TZID:America/Toronto
BEGIN:DAYLIGHT
TZOFFSETFROM:-0500
TZOFFSETTO:-0400
TZNAME:EDT
DTSTART:20220313T070000
END:DAYLIGHT
BEGIN:STANDARD
TZOFFSETFROM:-0400
TZOFFSETTO:-0500
TZNAME:EST
DTSTART:20221106T060000
END:STANDARD
BEGIN:DAYLIGHT
TZOFFSETFROM:-0500
TZOFFSETTO:-0400
TZNAME:EDT
DTSTART:20230312T070000
END:DAYLIGHT
BEGIN:STANDARD
TZOFFSETFROM:-0400
TZOFFSETTO:-0500
TZNAME:EST
DTSTART:20231105T060000
END:STANDARD
BEGIN:DAYLIGHT
TZOFFSETFROM:-0500
TZOFFSETTO:-0400
TZNAME:EDT
DTSTART:20240310T070000
END:DAYLIGHT
BEGIN:STANDARD
TZOFFSETFROM:-0400
TZOFFSETTO:-0500
TZNAME:EST
DTSTART:20241103T060000
END:STANDARD
END:VTIMEZONE
BEGIN:VTIMEZONE
TZID:America/Winnipeg
BEGIN:DAYLIGHT
TZOFFSETFROM:-0600
TZOFFSETTO:-0500
TZNAME:CDT
DTSTART:20220313T080000
END:DAYLIGHT
BEGIN:STANDARD
TZOFFSETFROM:-0500
TZOFFSETTO:-0600
TZNAME:CST
DTSTART:20221106T070000
END:STANDARD
BEGIN:DAYLIGHT
TZOFFSETFROM:-0600
TZOFFSETTO:-0500
TZNAME:CDT
DTSTART:20230312T080000
END:DAYLIGHT
BEGIN:STANDARD
TZOFFSETFROM:-0500
TZOFFSETTO:-0600
TZNAME:CST
DTSTART:20231105T070000
END:STANDARD
BEGIN:DAYLIGHT
TZOFFSETFROM:-0600
TZOFFSETTO:-0500
TZNAME:CDT
DTSTART:20240310T080000
END:DAYLIGHT
BEGIN:STANDARD
TZOFFSETFROM:-0500
TZOFFSETTO:-0600
TZNAME:CST
DTSTART:20241103T070000
END:STANDARD
END:VTIMEZONE
BEGIN:VTIMEZONE
TZID:America/Vancouver
BEGIN:DAYLIGHT
TZOFFSETFROM:-0800
TZOFFSETTO:-0700
TZNAME:PDT
DTSTART:20220313T100000
END:DAYLIGHT
BEGIN:STANDARD
TZOFFSETFROM:-0700
TZOFFSETTO:-0800
TZNAME:PST
DTSTART:20221106T090000
END:STANDARD
BEGIN:DAYLIGHT
TZOFFSETFROM:-0800
TZOFFSETTO:-0700
TZNAME:PDT
DTSTART:20230312T100000
END:DAYLIGHT
BEGIN:STANDARD
TZOFFSETFROM:-0700
TZOFFSETTO:-0800
TZNAME:PST
DTSTART:20231105T090000
END:STANDARD
BEGIN:DAYLIGHT
TZOFFSETFROM:-0800
TZOFFSETTO:-0700
TZNAME:PDT
DTSTART:20240310T100000
END:DAYLIGHT
BEGIN:STANDARD
TZOFFSETFROM:-0700
TZOFFSETTO:-0800
TZNAME:PST
DTSTART:20241103T090000
END:STANDARD
END:VTIMEZONE
BEGIN:VEVENT
DTSTART;TZID=America/Toronto:20231013T193000
DTEND;TZID=America/Toronto:20231013T213000
DTSTAMP:20260420T003725
CREATED:20230501T170700Z
LAST-MODIFIED:20231010T151440Z
UID:10000095-1697225400-1697232600@stevebell.com
SUMMARY:Toronto\, ON — Solo Concert ft. Special Guest Mike Janzen
DESCRIPTION:An evening of story and song\, featuring music from Steve’s latest album\, “Wouldn’t You Love to Know\,” as well as Steve Bell classics and favourites. \nFeaturing special guest Mike Janzen. \n \n  \n  \n  \n  \n  \n  \n  \n  \n  \n  \n  \nTickets available online below\, as well as at the door on concert night.\nOr through Little Trinity Anglican (425 King Street E | 416-367-0272 x 224).\nFor phone orders\, call Signpost Music toll-free at 1-800-854-3499. \nFor a preview of Steve’s concerts\, see below. Feel free to share! \nhttps://youtu.be/7Z3IgLc3MqM \n 
URL:https://stevebell.com/event/toronto-on-solo-concert/
LOCATION:Little Trinity Anglican Church\, 425 King Street East\, Toronto\, ON\, M5A 1L3\, Canada
CATEGORIES:Solo Concert
ATTACH;FMTTYPE=image/png:https://stevebell.com/wp-content/uploads/sb-2022-poster.png
GEO:43.6532686;-79.3619856
X-APPLE-STRUCTURED-LOCATION;VALUE=URI;X-ADDRESS=Little Trinity Anglican Church 425 King Street East Toronto ON M5A 1L3 Canada;X-APPLE-RADIUS=500;X-TITLE=425 King Street East:geo:-79.3619856,43.6532686
END:VEVENT
BEGIN:VEVENT
DTSTART;TZID=America/Toronto:20231014T193000
DTEND;TZID=America/Toronto:20231014T213000
DTSTAMP:20260420T003725
CREATED:20230501T170946Z
LAST-MODIFIED:20231010T143239Z
UID:10000096-1697311800-1697319000@stevebell.com
SUMMARY:Brantford\, ON — Solo Concert ft. Special Guest Jacob Moon
DESCRIPTION:An evening of story and song\, featuring music from Steve’s latest album\, “Wouldn’t You Love to Know\,” as well as Steve Bell classics and favourites. \nSpecial guest appearance by Jacob Moon. \n \n  \n  \n  \n  \n  \n  \n  \n  \n  \n  \nTickets available online below\, and will be available at the door on concert night.\nOr through Brant Community Church (69 Superior Street | 519-756-3993 x1).\nFor phone orders\, call Signpost Music toll-free at 1-800-854-3499. \nFor a preview of Steve’s concerts\, see below. Feel free to share! \nhttps://youtu.be/x-ZOvrsMrcI \n 
URL:https://stevebell.com/event/brantford-on-solo-concert-2/
LOCATION:Brant Community Church\, 69 Superior Street\, Brantford\, ON\, N3S 2K5\, Canada
CATEGORIES:Solo Concert
ATTACH;FMTTYPE=image/png:https://stevebell.com/wp-content/uploads/sb-2022-poster.png
GEO:43.1301279;-80.2551419
X-APPLE-STRUCTURED-LOCATION;VALUE=URI;X-ADDRESS=Brant Community Church 69 Superior Street Brantford ON N3S 2K5 Canada;X-APPLE-RADIUS=500;X-TITLE=69 Superior Street:geo:-80.2551419,43.1301279
END:VEVENT
BEGIN:VEVENT
DTSTART;TZID=America/Toronto:20231015T190000
DTEND;TZID=America/Toronto:20231015T210000
DTSTAMP:20260420T003725
CREATED:20230531T165531Z
LAST-MODIFIED:20231010T164250Z
UID:10000101-1697396400-1697403600@stevebell.com
SUMMARY:Dundas\, ON — Solo Concert
DESCRIPTION:An evening of story and song\, featuring music from Steve’s latest album\, “Wouldn’t You Love to Know\,” as well as Steve Bell classics and favourites. \nTickets available online here\, and will be sold at the door on concert night. \nTickets can also be purchased through St. James Anglican Church at 137 Melville Street in Dundas (905-627-1424).\nFor phone orders\, call Signpost Music toll-free at 1-800-854-3499. \nFor a preview of Steve’s concerts\, see below. Feel free to share! \nhttps://youtu.be/5ZFQaq_qu5E \n  \n 
URL:https://stevebell.com/event/dundas-on-solo-concert/
LOCATION:St. James Anglican Church\, 137 Melville St.\, Dundas\, ON\, L9H 2A6
CATEGORIES:Solo Concert
ATTACH;FMTTYPE=image/png:https://stevebell.com/wp-content/uploads/Steve-Portrait-2022.png
GEO:43.2696079;-79.9613159
X-APPLE-STRUCTURED-LOCATION;VALUE=URI;X-ADDRESS=St. James Anglican Church 137 Melville St. Dundas ON L9H 2A6;X-APPLE-RADIUS=500;X-TITLE=137 Melville St.:geo:-79.9613159,43.2696079
END:VEVENT
BEGIN:VEVENT
DTSTART;TZID=America/Winnipeg:20231020T193000
DTEND;TZID=America/Winnipeg:20231020T213000
DTSTAMP:20260420T003725
CREATED:20230811T162742Z
LAST-MODIFIED:20231017T143933Z
UID:10000103-1697830200-1697837400@stevebell.com
SUMMARY:Lorette\, MB — Solo Concert
DESCRIPTION:An evening of story and song\, featuring music from Steve’s latest album\, “Wouldn’t You Love to Know\,” as well as Steve Bell classics and favourites. Tickets available online here.\nFor phone orders\, call Signpost Music toll-free at 1-800-854-3499. \nLocal ticket locations: \nParoisse Notre Dame-De-Lorette Parish (1282 Dawson Rd\, Lorette)\nSeine River Church (1464 Dawson Rd\, Lorette)\nPrairie Grove Fellowship Chapel (265 Mun 26E\, Lorette) \nTickets will also be available at the door on concert night. \nFor a preview of Steve’s concerts\, see below. Feel free to share! \nhttps://youtu.be/p4dzoeyhQ5U \n 
URL:https://stevebell.com/event/lorette-mb-solo-concert/
LOCATION:Notre Dame De Lorette Parish\, 1282 Dawson Road\, Lorette\, MB\, R5K 0T2\, Canada
CATEGORIES:Solo Concert
ATTACH;FMTTYPE=image/png:https://stevebell.com/wp-content/uploads/sb-2022-poster.png
END:VEVENT
BEGIN:VEVENT
DTSTART;TZID=America/Vancouver:20231026T190000
DTEND;TZID=America/Vancouver:20231026T210000
DTSTAMP:20260420T003725
CREATED:20230913T155651Z
LAST-MODIFIED:20231023T173501Z
UID:10000106-1698346800-1698354000@stevebell.com
SUMMARY:Vancouver\, BC — Canadian Bible Society Event
DESCRIPTION:Steve will be performing at the Sacred Word\, Sacred Hope event put on by the Canadian Bible Society\, “celebrating the beauty and strength of the Word of God – healing and transforming hearts\, lives\, and communities.” \nHear how the ministry of the Bible Society – helping people to hear God speak through the Scriptures – is bearing fruit across BC and Yukon. Dig deeper into the ministry of reconciliation – hearing from our Keynote Speaker\, Milissa Ewing. Partake in a delicious\, West Coast banquet. Savour the Scripture-inspired imagination in the music of Canadian songwriter\, Steve Bell. \nRegistration for this event is now closed. For more information visit biblesociety.ca
URL:https://stevebell.com/event/vancouver-bc-canadian-bible-society-event/
LOCATION:Central Presbyterian Church\, 1155 Thurlow St\, Vancouver\, BC\, V6E 1X2\, Canada
CATEGORIES:Special Guest Appearance
END:VEVENT
BEGIN:VEVENT
DTSTART;TZID=America/Vancouver:20231027T193000
DTEND;TZID=America/Vancouver:20231027T213000
DTSTAMP:20260420T003725
CREATED:20230512T175303Z
LAST-MODIFIED:20231027T160451Z
UID:10000098-1698435000-1698442200@stevebell.com
SUMMARY:Abbotsford\, BC — Solo Concert
DESCRIPTION:An evening of story and song\, featuring music from Steve’s latest album\, “Wouldn’t You Love to Know\,” as well as Steve Bell classics and favourites. \nTickets available online here\, as well as through Highland Community Church (3130 McMillan Rd | 604-853-7052).\nFor phone orders\, call Signpost Music toll-free at 1-800-854-3499.\nTickets will also be available at the door on concert night. \nFor a preview of Steve’s concerts\, see below. Feel free to share! \nhttps://youtu.be/XCRkEKcKrdM \n 
URL:https://stevebell.com/event/abbotsford-bc-solo-concert/
LOCATION:Highland Community Church\, 3130 McMillan Rd\, Abbotsford\, BC\, V2S6A8\, Canada
CATEGORIES:Solo Concert
ATTACH;FMTTYPE=image/png:https://stevebell.com/wp-content/uploads/sb-2022-poster.png
END:VEVENT
BEGIN:VEVENT
DTSTART;TZID=America/Vancouver:20231028T193000
DTEND;TZID=America/Vancouver:20231028T213000
DTSTAMP:20260420T003725
CREATED:20230628T173329Z
LAST-MODIFIED:20231017T180733Z
UID:10000102-1698521400-1698528600@stevebell.com
SUMMARY:Surrey\, BC — Solo Concert
DESCRIPTION:An evening of story and song\, featuring music from Steve’s latest album\, “Wouldn’t You Love to Know\,” as well as Steve Bell classics and favourites. Presented in partnership with A Rocha Canada. \nTickets available online here (see below). Tickets also available through Jericho Ridge Church at 19533 64th Avenue\, Surrey (604-629-7804).\nFor phone orders\, call Signpost Music toll-free at 1-800-854-3499.\nTickets will also be available at the door on concert night. \nFor a preview of Steve’s concerts\, see below. Feel free to share! \nhttps://youtu.be/8SokLWRBDBQ \n 
URL:https://stevebell.com/event/surrey-bc-solo-concert/
LOCATION:Jericho Ridge Comunity Church\, 19533 64 Avenue\, Surrey\, BC\, V3S 4J3\, Canada
CATEGORIES:Solo Concert
ATTACH;FMTTYPE=image/png:https://stevebell.com/wp-content/uploads/sb-2022-poster.png
END:VEVENT
BEGIN:VEVENT
DTSTART;TZID=America/Vancouver:20231029T193000
DTEND;TZID=America/Vancouver:20231029T213000
DTSTAMP:20260420T003725
CREATED:20230512T175536Z
LAST-MODIFIED:20231017T180757Z
UID:10000099-1698607800-1698615000@stevebell.com
SUMMARY:Victoria\, BC — Solo Concert
DESCRIPTION:An evening of story and song\, featuring music from Steve’s latest album\, “Wouldn’t You Love to Know\,” as well as Steve Bell classics and favourites. \nTickets available online below\, as well as through Lambrick Park Church (1780 Feltham Rd | 250-477-9721).\nFor phone orders\, call Signpost Music toll-free at 1-800-854-3499.\nTickets will also be available at the door on concert night. \nFor a preview of Steve’s concerts\, see below. Feel free to share! \nhttps://youtu.be/hUqJQX43IKk \n 
URL:https://stevebell.com/event/victoria-bc-solo-concert/
LOCATION:Lambrick Park Church\, 1780 Feltham Road\, Victoria\, BC\, V8N 2A5
CATEGORIES:Solo Concert
ATTACH;FMTTYPE=image/png:https://stevebell.com/wp-content/uploads/sb-2022-poster.png
END:VEVENT
END:VCALENDAR