BEGIN:VCALENDAR
VERSION:2.0
PRODID:-//Steve Bell - ECPv6.15.20//NONSGML v1.0//EN
CALSCALE:GREGORIAN
METHOD:PUBLISH
X-ORIGINAL-URL:https://stevebell.com
X-WR-CALDESC:Events for Steve Bell
REFRESH-INTERVAL;VALUE=DURATION:PT1H
X-Robots-Tag:noindex
X-PUBLISHED-TTL:PT1H
BEGIN:VTIMEZONE
TZID:America/Toronto
BEGIN:DAYLIGHT
TZOFFSETFROM:-0500
TZOFFSETTO:-0400
TZNAME:EDT
DTSTART:20220313T070000
END:DAYLIGHT
BEGIN:STANDARD
TZOFFSETFROM:-0400
TZOFFSETTO:-0500
TZNAME:EST
DTSTART:20221106T060000
END:STANDARD
BEGIN:DAYLIGHT
TZOFFSETFROM:-0500
TZOFFSETTO:-0400
TZNAME:EDT
DTSTART:20230312T070000
END:DAYLIGHT
BEGIN:STANDARD
TZOFFSETFROM:-0400
TZOFFSETTO:-0500
TZNAME:EST
DTSTART:20231105T060000
END:STANDARD
BEGIN:DAYLIGHT
TZOFFSETFROM:-0500
TZOFFSETTO:-0400
TZNAME:EDT
DTSTART:20240310T070000
END:DAYLIGHT
BEGIN:STANDARD
TZOFFSETFROM:-0400
TZOFFSETTO:-0500
TZNAME:EST
DTSTART:20241103T060000
END:STANDARD
END:VTIMEZONE
BEGIN:VTIMEZONE
TZID:America/Edmonton
BEGIN:DAYLIGHT
TZOFFSETFROM:-0700
TZOFFSETTO:-0600
TZNAME:MDT
DTSTART:20220313T090000
END:DAYLIGHT
BEGIN:STANDARD
TZOFFSETFROM:-0600
TZOFFSETTO:-0700
TZNAME:MST
DTSTART:20221106T080000
END:STANDARD
BEGIN:DAYLIGHT
TZOFFSETFROM:-0700
TZOFFSETTO:-0600
TZNAME:MDT
DTSTART:20230312T090000
END:DAYLIGHT
BEGIN:STANDARD
TZOFFSETFROM:-0600
TZOFFSETTO:-0700
TZNAME:MST
DTSTART:20231105T080000
END:STANDARD
BEGIN:DAYLIGHT
TZOFFSETFROM:-0700
TZOFFSETTO:-0600
TZNAME:MDT
DTSTART:20240310T090000
END:DAYLIGHT
BEGIN:STANDARD
TZOFFSETFROM:-0600
TZOFFSETTO:-0700
TZNAME:MST
DTSTART:20241103T080000
END:STANDARD
END:VTIMEZONE
BEGIN:VTIMEZONE
TZID:America/Winnipeg
BEGIN:DAYLIGHT
TZOFFSETFROM:-0600
TZOFFSETTO:-0500
TZNAME:CDT
DTSTART:20220313T080000
END:DAYLIGHT
BEGIN:STANDARD
TZOFFSETFROM:-0500
TZOFFSETTO:-0600
TZNAME:CST
DTSTART:20221106T070000
END:STANDARD
BEGIN:DAYLIGHT
TZOFFSETFROM:-0600
TZOFFSETTO:-0500
TZNAME:CDT
DTSTART:20230312T080000
END:DAYLIGHT
BEGIN:STANDARD
TZOFFSETFROM:-0500
TZOFFSETTO:-0600
TZNAME:CST
DTSTART:20231105T070000
END:STANDARD
BEGIN:DAYLIGHT
TZOFFSETFROM:-0600
TZOFFSETTO:-0500
TZNAME:CDT
DTSTART:20240310T080000
END:DAYLIGHT
BEGIN:STANDARD
TZOFFSETFROM:-0500
TZOFFSETTO:-0600
TZNAME:CST
DTSTART:20241103T070000
END:STANDARD
END:VTIMEZONE
BEGIN:VEVENT
DTSTART;TZID=America/Toronto:20231201T193000
DTEND;TZID=America/Toronto:20231201T213000
DTSTAMP:20260419T212642
CREATED:20230515T170021Z
LAST-MODIFIED:20231129T171639Z
UID:10000100-1701459000-1701466200@stevebell.com
SUMMARY:Cambridge\, ON — Advent Concert
DESCRIPTION:Featuring stories and songs from Advent\, Christmas and Epiphany as well as Steve Bell classics and favourites. \nTickets available online here\,\nas well as through Temple Baptist Church (400 Holiday Inn Drive | 519-658-9001).\nFor phone orders\, call Signpost Music toll-free at 1-800-854-3499. \nTickets will also be available at the door on concert night. \nFor a preview of Steve’s concerts\, see below. Feel free to share! \nhttps://youtu.be/kstM9Hk3Oqw \n 
URL:https://stevebell.com/event/cambridge-on-solo-concert/
LOCATION:Temple Baptist Church\, 400 Holiday Inn Dr\, Cambridge\, ON\, N3C 3T1\, Canada
CATEGORIES:Solo Concert
ATTACH;FMTTYPE=image/png:https://stevebell.com/wp-content/uploads/sb-2022-poster.png
END:VEVENT
BEGIN:VEVENT
DTSTART;TZID=America/Toronto:20231202T193000
DTEND;TZID=America/Toronto:20231202T213000
DTSTAMP:20260419T212642
CREATED:20230811T181404Z
LAST-MODIFIED:20231129T171245Z
UID:10000105-1701545400-1701552600@stevebell.com
SUMMARY:Mississauga\, ON — Advent Concert
DESCRIPTION:Featuring stories and songs from Advent\, Christmas and Epiphany as well as Steve Bell classics and favourites.\nTickets available online here\,\nas well as through Temple Baptist Church (400 Holiday Inn Dr | 519-658-9001).\nFor phone orders\, call Signpost Music toll-free at 1-800-854-3499. \nTickets will also be available at the door on concert night. \nFor a preview of Steve’s concerts\, see below. Feel free to share! \nhttps://youtu.be/4yIhRzNAUYU \n 
URL:https://stevebell.com/event/mississauga-on-solo-concert/
LOCATION:Meadowvale Community Christian Reformed Church\, 2630 Inlake Court\, Mississauga\, ON\, L5N 2A7\, Canada
CATEGORIES:Solo Concert
ATTACH;FMTTYPE=image/png:https://stevebell.com/wp-content/uploads/sb-2022-poster.png
END:VEVENT
BEGIN:VEVENT
DTSTART;TZID=America/Toronto:20231203T190000
DTEND;TZID=America/Toronto:20231203T210000
DTSTAMP:20260419T212642
CREATED:20231013T153412Z
LAST-MODIFIED:20231129T163213Z
UID:10000110-1701630000-1701637200@stevebell.com
SUMMARY:Whitby\, ON — Advent Concert
DESCRIPTION:Featuring stories and songs from Advent\, Christmas and Epiphany as well as Steve Bell classics and favourites.\nTickets available online here\,\nas well as through All Saints’ Anglican Church (300 Dundas St. W | 905-668-5101)\nFor phone orders\, call Signpost Music toll-free at 1-800-854-3499. \nTickets will be available for sale at the door on concert night. \nFor a preview of Steve in concert\, click below. Feel free to share! \nhttps://youtu.be/Gq4rwYZ3GRU \n 
URL:https://stevebell.com/event/whitby-on-solo-concert/
LOCATION:All Saints’ Anglican Church\, 300 Dundas St. W\, Whitby\, ON\, L1N 2M5\, Canada
CATEGORIES:Solo Concert
ATTACH;FMTTYPE=image/png:https://stevebell.com/wp-content/uploads/2022-Poster-Pic.png
END:VEVENT
BEGIN:VEVENT
DTSTART;TZID=America/Edmonton:20231208T193000
DTEND;TZID=America/Edmonton:20231208T213000
DTSTAMP:20260419T212642
CREATED:20231013T153839Z
LAST-MODIFIED:20231127T184103Z
UID:10000111-1702063800-1702071000@stevebell.com
SUMMARY:Calgary\, AB — SOLD OUT
DESCRIPTION:THIS CONCERT IS NOW SOLD OUT. \nSteve will be performing in Three Hills on March 17\, 2024. Tickets for this concert will be posted online in the new year. \n 
URL:https://stevebell.com/event/calgary-ab-available-evening/
LOCATION:Oak Park Church of Christ\, 11263 Oakfield Drive SW\, Calgary\, AB\, T2W 4M2\, Canada
CATEGORIES:Solo Concert
ATTACH;FMTTYPE=image/png:https://stevebell.com/wp-content/uploads/2022-Poster-Pic.png
END:VEVENT
BEGIN:VEVENT
DTSTART;TZID=America/Edmonton:20231210T190000
DTEND;TZID=America/Edmonton:20231210T210000
DTSTAMP:20260419T212642
CREATED:20231013T154412Z
LAST-MODIFIED:20231103T160333Z
UID:10000112-1702234800-1702242000@stevebell.com
SUMMARY:Sherwood Park\, AB — Advent Concert
DESCRIPTION:Featuring stories and songs from Advent\, Christmas and Epiphany as well as Steve Bell classics and favourites.\nSteve will also be making special guest appearances at Sherwood Park Alliance Church’s 6:00PM Saturday evening and 10:00AM Sunday morning worship services. \nTickets for the 7:00PM Sunday concert are available below\, as well as through Sherwood Park Alliance (1011 Clover Bar Road).\nFor phone orders\, call Signpost Music toll-free at 1-800-854-3499. \nFor a preview of Steve’s concerts\, see below. Feel free to share! \nhttps://youtu.be/BqJF9xfsRCc \n 
URL:https://stevebell.com/event/sherwood-park-ab-solo-concert/
LOCATION:Sherwood Park Alliance Church\, 1011 Clover Bar Road\, Sherwood Park\, AB\, T8A 4V7\, Canada
CATEGORIES:Solo Concert
ATTACH;FMTTYPE=image/png:https://stevebell.com/wp-content/uploads/2022-Poster-Pic.png
END:VEVENT
BEGIN:VEVENT
DTSTART;TZID=America/Winnipeg:20231214T193000
DTEND;TZID=America/Winnipeg:20231214T213000
DTSTAMP:20260419T212642
CREATED:20231013T154946Z
LAST-MODIFIED:20231211T172108Z
UID:10000113-1702582200-1702589400@stevebell.com
SUMMARY:Steinbach\, MB — Advent Concert
DESCRIPTION:Featuring stories and songs from Advent\, Christmas and Epiphany as well as Steve Bell classics and favourites.\nTickets available online here\,\nas well as through Grace Mennonite Church (430 Third Street | 204-326-3707).\nFor phone orders\, call Signpost Music toll-free at 1-800-854-3499. \nTickets will be available at the door on concert night. \nFor a preview of Steve in concert\, click below. Feel free to share! \nhttps://youtu.be/9ozRENpPrC0 \n 
URL:https://stevebell.com/event/steinbach-mb-solo-concert-2/
LOCATION:Grace Mennonite Church\, 430 Third Street\, Steinbach\, MB\, R5G 0K5\, Canada
CATEGORIES:Solo Concert
ATTACH;FMTTYPE=image/png:https://stevebell.com/wp-content/uploads/2022-Poster-Pic.png
END:VEVENT
BEGIN:VEVENT
DTSTART;TZID=America/Winnipeg:20231215T193000
DTEND;TZID=America/Winnipeg:20231215T213000
DTSTAMP:20260419T212642
CREATED:20231013T155313Z
LAST-MODIFIED:20231215T192543Z
UID:10000114-1702668600-1702675800@stevebell.com
SUMMARY:Winnipeg\, MB — Advent Concert
DESCRIPTION:Featuring stories and songs from Advent\, Christmas and Epiphany as well as Steve Bell classics and favourites.\nVenue: West End Cultural Centre (586 Ellice Ave).\nTickets available below. General Admission (“rush” seating). Doors open at 6:30 PM. \nIf there is inventory showing below then there are still tickets available. A few tickets will also be available at the door.\nWe hope to see you there! \nFor a preview of Steve in concert\, see below. Feel free to share! \nhttps://youtu.be/pHsywRH7hjQ \n 
URL:https://stevebell.com/event/winnipeg-mb-solo-concert/
LOCATION:West End Cultural Centre\, 586 Ellice Ave.\, Winnipeg\, Manitoba\, Canada
CATEGORIES:Solo Concert
ATTACH;FMTTYPE=image/png:https://stevebell.com/wp-content/uploads/2022-Poster-Pic.png
END:VEVENT
BEGIN:VEVENT
DTSTART;TZID=America/Toronto:20231217T190000
DTEND;TZID=America/Toronto:20231217T210000
DTSTAMP:20260419T212642
CREATED:20231013T155528Z
LAST-MODIFIED:20231217T153301Z
UID:10000115-1702839600-1702846800@stevebell.com
SUMMARY:Thunder Bay\, ON — Advent Concert
DESCRIPTION:Featuring stories and songs from Advent\, Christmas and Epiphany as well as Steve Bell classics and favourites.\nTickets available below\, and at Redwood Park Alliance Church (2609 Redwood Ave | 807-577-3463).\nFor phone orders\, call Signpost Music toll-free at 1-800-854-3499. \nTickets will be available at the door on concert night. \nGraciously sponsored in part by UCB Radio. \n \n  \n  \n  \nFor a preview of Steve in concert\, see below. Feel free to share! \nhttps://youtu.be/ttIcTxDYG9c
URL:https://stevebell.com/event/thunder-bay-on-solo-concert-3/
LOCATION:Redwood Park Church\, 2609 Redwood Ave\, Thunder Bay\, ON\, P7C 1Y9\, Canada
CATEGORIES:Solo Concert
ATTACH;FMTTYPE=image/png:https://stevebell.com/wp-content/uploads/2022-Poster-Pic.png
END:VEVENT
END:VCALENDAR