BEGIN:VCALENDAR
VERSION:2.0
PRODID:-//Steve Bell - ECPv6.15.20//NONSGML v1.0//EN
CALSCALE:GREGORIAN
METHOD:PUBLISH
X-ORIGINAL-URL:https://stevebell.com
X-WR-CALDESC:Events for Steve Bell
REFRESH-INTERVAL;VALUE=DURATION:PT1H
X-Robots-Tag:noindex
X-PUBLISHED-TTL:PT1H
BEGIN:VTIMEZONE
TZID:America/Winnipeg
BEGIN:DAYLIGHT
TZOFFSETFROM:-0600
TZOFFSETTO:-0500
TZNAME:CDT
DTSTART:20230312T080000
END:DAYLIGHT
BEGIN:STANDARD
TZOFFSETFROM:-0500
TZOFFSETTO:-0600
TZNAME:CST
DTSTART:20231105T070000
END:STANDARD
BEGIN:DAYLIGHT
TZOFFSETFROM:-0600
TZOFFSETTO:-0500
TZNAME:CDT
DTSTART:20240310T080000
END:DAYLIGHT
BEGIN:STANDARD
TZOFFSETFROM:-0500
TZOFFSETTO:-0600
TZNAME:CST
DTSTART:20241103T070000
END:STANDARD
BEGIN:DAYLIGHT
TZOFFSETFROM:-0600
TZOFFSETTO:-0500
TZNAME:CDT
DTSTART:20250309T080000
END:DAYLIGHT
BEGIN:STANDARD
TZOFFSETFROM:-0500
TZOFFSETTO:-0600
TZNAME:CST
DTSTART:20251102T070000
END:STANDARD
END:VTIMEZONE
BEGIN:VTIMEZONE
TZID:America/Edmonton
BEGIN:DAYLIGHT
TZOFFSETFROM:-0700
TZOFFSETTO:-0600
TZNAME:MDT
DTSTART:20230312T090000
END:DAYLIGHT
BEGIN:STANDARD
TZOFFSETFROM:-0600
TZOFFSETTO:-0700
TZNAME:MST
DTSTART:20231105T080000
END:STANDARD
BEGIN:DAYLIGHT
TZOFFSETFROM:-0700
TZOFFSETTO:-0600
TZNAME:MDT
DTSTART:20240310T090000
END:DAYLIGHT
BEGIN:STANDARD
TZOFFSETFROM:-0600
TZOFFSETTO:-0700
TZNAME:MST
DTSTART:20241103T080000
END:STANDARD
BEGIN:DAYLIGHT
TZOFFSETFROM:-0700
TZOFFSETTO:-0600
TZNAME:MDT
DTSTART:20250309T090000
END:DAYLIGHT
BEGIN:STANDARD
TZOFFSETFROM:-0600
TZOFFSETTO:-0700
TZNAME:MST
DTSTART:20251102T080000
END:STANDARD
END:VTIMEZONE
BEGIN:VTIMEZONE
TZID:America/Toronto
BEGIN:DAYLIGHT
TZOFFSETFROM:-0500
TZOFFSETTO:-0400
TZNAME:EDT
DTSTART:20230312T070000
END:DAYLIGHT
BEGIN:STANDARD
TZOFFSETFROM:-0400
TZOFFSETTO:-0500
TZNAME:EST
DTSTART:20231105T060000
END:STANDARD
BEGIN:DAYLIGHT
TZOFFSETFROM:-0500
TZOFFSETTO:-0400
TZNAME:EDT
DTSTART:20240310T070000
END:DAYLIGHT
BEGIN:STANDARD
TZOFFSETFROM:-0400
TZOFFSETTO:-0500
TZNAME:EST
DTSTART:20241103T060000
END:STANDARD
BEGIN:DAYLIGHT
TZOFFSETFROM:-0500
TZOFFSETTO:-0400
TZNAME:EDT
DTSTART:20250309T070000
END:DAYLIGHT
BEGIN:STANDARD
TZOFFSETFROM:-0400
TZOFFSETTO:-0500
TZNAME:EST
DTSTART:20251102T060000
END:STANDARD
END:VTIMEZONE
BEGIN:VEVENT
DTSTART;TZID=America/Winnipeg:20240301T190000
DTEND;TZID=America/Winnipeg:20240301T210000
DTSTAMP:20260419T170157
CREATED:20240201T171450Z
LAST-MODIFIED:20240209T160224Z
UID:10000122-1709319600-1709326800@stevebell.com
SUMMARY:Steinbach\, MB — Dessert Evening Fundraiser for HavenGroup Foundation
DESCRIPTION:
URL:https://stevebell.com/event/steinbach-mb-dessert-evening-fundraiser-for-havengroup-foundation/
LOCATION:Steinbach Evangelical Mennonite Church\, 422 Main Street\, Steinbach\, MB\, R5G 1Z5\, Canada
CATEGORIES:Special Guest Appearance
ATTACH;FMTTYPE=image/png:https://stevebell.com/wp-content/uploads/Screen-Shot-2024-02-09-at-10.01.11-AM.png
ORGANIZER;CN="HavenGroup Welcome Centre":MAILTO:hginfo@havengroup.ca
END:VEVENT
BEGIN:VEVENT
DTSTART;TZID=America/Edmonton:20240315T193000
DTEND;TZID=America/Edmonton:20240315T213000
DTSTAMP:20260419T170157
CREATED:20231218T160456Z
LAST-MODIFIED:20240117T154447Z
UID:10000117-1710531000-1710538200@stevebell.com
SUMMARY:Calgary\, AB — The PSALMS PROJECT with MIKE JANZEN feat. STEVE BELL
DESCRIPTION:Signpost Music presents The Psalms Project; a concert of original songs arranged and performed by Mike Janzen\, featuring special guests Steve Bell\, Erin Propp\, Davide Direnzo (drums)\, George Koller (bass)\, string orchestra and the New West Youth Choir with First Alliance Church Choir. \nHailed as “a concert for the ages\,” (Jane Harbury) and “an oasis for the spirit” (Juno Award Winner Laila Biali) this moving concert revolves around the Psalms and features some of Canada’s finest musicians. \nLocation: First Alliance Church Calgary (FAC Deerfoot)\, 40 Street SE\, Calgary\, AB\, Canada \nPrepare to be moved as Mike Janzen’s beautiful melodies and heartfelt lyrics transport you to a place of deep reflection and inspiration. This in-person event promises an unforgettable experience that will touch your heart and leave you uplifted. \nClick here for tickets. \n  \n 
URL:https://stevebell.com/event/calgary-ab-mike-janzen-psalms-concert/
LOCATION:First Alliance Church\, 12345 40 Street SE\, Calgary\, AB\, T2Z 4E6\, Canada
CATEGORIES:Special Guest Appearance
ATTACH;FMTTYPE=image/png:https://stevebell.com/wp-content/uploads/Screen-Shot-2023-02-22-at-11.34.59-AM.png
END:VEVENT
BEGIN:VEVENT
DTSTART;VALUE=DATE:20240316
DTEND;VALUE=DATE:20240317
DTSTAMP:20260419T170157
CREATED:20240115T191930Z
LAST-MODIFIED:20240115T191930Z
UID:10000121-1710547200-1710633599@stevebell.com
SUMMARY:Private Retreat - Calgary\, AB
DESCRIPTION:
URL:https://stevebell.com/event/private-retreat-calgary-ab/
CATEGORIES:Private Event
END:VEVENT
BEGIN:VEVENT
DTSTART;TZID=America/Edmonton:20240317T190000
DTEND;TZID=America/Edmonton:20240317T210000
DTSTAMP:20260419T170157
CREATED:20231218T160747Z
LAST-MODIFIED:20240117T173815Z
UID:10000118-1710702000-1710709200@stevebell.com
SUMMARY:Three Hills\, AB — Solo Concert
DESCRIPTION:An evening of story and song\, featuring music from Steve’s latest album\, “Wouldn’t You Love to Know\,” as well as Steve Bell classics and favourites. \nVenue: Bethel Evangelical Missionary Church (123 – 4 Ave SE).\nTickets available below.\nFor phone orders\, call Signpost Music toll-free at 1-800-854-3499. \nFor a preview of Steve’s concerts\, see below. Feel free to share! \nhttps://youtu.be/tP3EPEInpN0 \n 
URL:https://stevebell.com/event/three-hills-ab-solo-concert/
LOCATION:Bethel Evangelical Missionary Church\, 123 - 4 Ave SE\, Three Hills\, AB\, T0M 2A0\, Canada
CATEGORIES:Solo Concert
ATTACH;FMTTYPE=image/png:https://stevebell.com/wp-content/uploads/2022-Poster-Pic.png
END:VEVENT
BEGIN:VEVENT
DTSTART;TZID=America/Toronto:20240322T190000
DTEND;TZID=America/Toronto:20240322T210000
DTSTAMP:20260419T170157
CREATED:20240205T180039Z
LAST-MODIFIED:20240318T163155Z
UID:10000123-1711134000-1711141200@stevebell.com
SUMMARY:Thunder Bay\, ON — Fundraising Concert for Lifewater Canada
DESCRIPTION:Steve will be performing at a fundraising event for Lifewater Canada on Friday\, March 22nd at the Italian Cultural Centre (132 S. Algoma St). Lifewater’s mission is to provide safe drinking water and improve hygiene in Africa (Liberia\, Nigeria\, Kenya) and Haiti. \nEnjoy a full concert from Steve\, hear the latest updates about Lifewater’s work\, and purchase unique silent auction items. Donations go toward the goal of funding five new wells. \nTickets available below.\nFor phone orders\, call Signpost Music toll-free at 1-800-854-3499.\nTickets will also be available at the door on concert night. \nFor a preview of Steve’s concerts\, see below. Feel free to share! \nhttps://youtu.be/6N_TrwTefoE
URL:https://stevebell.com/event/thunder-bay-on-fundraising-concert-for-lifewater-canada/
LOCATION:Italian Cultural Centre\, 132 S. Algoma St\, Thunder Bay\, ON\, P7B 3B7\, Canada
CATEGORIES:Solo Concert
ATTACH;FMTTYPE=image/png:https://stevebell.com/wp-content/uploads/LifeWater-Canada-Logo_Colour.png
END:VEVENT
END:VCALENDAR