BEGIN:VCALENDAR
VERSION:2.0
PRODID:-//Steve Bell - ECPv6.15.20//NONSGML v1.0//EN
CALSCALE:GREGORIAN
METHOD:PUBLISH
X-ORIGINAL-URL:https://stevebell.com
X-WR-CALDESC:Events for Steve Bell
REFRESH-INTERVAL;VALUE=DURATION:PT1H
X-Robots-Tag:noindex
X-PUBLISHED-TTL:PT1H
BEGIN:VTIMEZONE
TZID:America/Toronto
BEGIN:DAYLIGHT
TZOFFSETFROM:-0500
TZOFFSETTO:-0400
TZNAME:EDT
DTSTART:20230312T070000
END:DAYLIGHT
BEGIN:STANDARD
TZOFFSETFROM:-0400
TZOFFSETTO:-0500
TZNAME:EST
DTSTART:20231105T060000
END:STANDARD
BEGIN:DAYLIGHT
TZOFFSETFROM:-0500
TZOFFSETTO:-0400
TZNAME:EDT
DTSTART:20240310T070000
END:DAYLIGHT
BEGIN:STANDARD
TZOFFSETFROM:-0400
TZOFFSETTO:-0500
TZNAME:EST
DTSTART:20241103T060000
END:STANDARD
BEGIN:DAYLIGHT
TZOFFSETFROM:-0500
TZOFFSETTO:-0400
TZNAME:EDT
DTSTART:20250309T070000
END:DAYLIGHT
BEGIN:STANDARD
TZOFFSETFROM:-0400
TZOFFSETTO:-0500
TZNAME:EST
DTSTART:20251102T060000
END:STANDARD
END:VTIMEZONE
BEGIN:VEVENT
DTSTART;TZID=America/Toronto:20240419T193000
DTEND;TZID=America/Toronto:20240419T213000
DTSTAMP:20260419T151659
CREATED:20240110T180359Z
LAST-MODIFIED:20240301T161114Z
UID:10000119-1713555000-1713562200@stevebell.com
SUMMARY:Oakville\, ON - Compassion Series Presents Steve Bell in Concert
DESCRIPTION:Compassion Series presents Steve Bell in concert. An evening of story and song featuring Steve Bell classics\, as well as brand new material in celebration of Tim Huff’s new book release.\nRefreshments and meet-and-greet with Steve and Tim following the concert. \nThis event is being held for two nights in a row (April 19th and 20th) so please make sure you purchase tickets for the evening that you would like to attend. \nTickets for April 19th available below.\nFor phone orders\, call Signpost Music toll-free at 1-800-854-3499. \nFor a preview of Steve’s concerts\, see below. Feel free to share! \nhttps://youtu.be/mQzpsJU7XYA \n 
URL:https://stevebell.com/event/oakville-on-compassion-series-presents-steve-bell-in-concert/
LOCATION:Chartwell Church\, 228 Chartwell Rd\, Oakville\, ON\, L6J 3Z8\, Canada
CATEGORIES:Solo Concert
ATTACH;FMTTYPE=image/jpeg:https://stevebell.com/wp-content/uploads/Huff-web-banner-corrected.jpg
END:VEVENT
BEGIN:VEVENT
DTSTART;TZID=America/Toronto:20240420T193000
DTEND;TZID=America/Toronto:20240420T213000
DTSTAMP:20260419T151659
CREATED:20240110T180746Z
LAST-MODIFIED:20240301T160955Z
UID:10000120-1713641400-1713648600@stevebell.com
SUMMARY:Oakville\, ON - Compassion Series Presents Steve Bell in Concert
DESCRIPTION:Compassion Series presents Steve Bell in concert. An evening of story and song featuring Steve Bell classics\, as well as brand new material in celebration of Tim Huff’s new book release.\nRefreshments and meet-and-greet with Steve and Tim following the concert. \nThis event is being held for two nights in a row (April 19th and 20th) so please make sure you purchase tickets for the evening that you would like to attend. \nTickets for April 20th available below.\nFor phone orders\, call Signpost Music toll-free at 1-800-854-3499. \nFor a preview of Steve’s concerts\, see below. Feel free to share! \nhttps://youtu.be/mQzpsJU7XYA \n 
URL:https://stevebell.com/event/oakville-on-compassion-series-presents-steve-bell-in-concert-2/
LOCATION:Chartwell Church\, 228 Chartwell Rd\, Oakville\, ON\, L6J 3Z8\, Canada
CATEGORIES:Solo Concert
ATTACH;FMTTYPE=image/jpeg:https://stevebell.com/wp-content/uploads/Huff-web-banner-corrected.jpg
END:VEVENT
END:VCALENDAR