BEGIN:VCALENDAR
VERSION:2.0
PRODID:-//Steve Bell - ECPv6.15.20//NONSGML v1.0//EN
CALSCALE:GREGORIAN
METHOD:PUBLISH
X-WR-CALNAME:Steve Bell
X-ORIGINAL-URL:https://stevebell.com
X-WR-CALDESC:Events for Steve Bell
REFRESH-INTERVAL;VALUE=DURATION:PT1H
X-Robots-Tag:noindex
X-PUBLISHED-TTL:PT1H
BEGIN:VTIMEZONE
TZID:America/Winnipeg
BEGIN:DAYLIGHT
TZOFFSETFROM:-0600
TZOFFSETTO:-0500
TZNAME:CDT
DTSTART:20190310T080000
END:DAYLIGHT
BEGIN:STANDARD
TZOFFSETFROM:-0500
TZOFFSETTO:-0600
TZNAME:CST
DTSTART:20191103T070000
END:STANDARD
BEGIN:DAYLIGHT
TZOFFSETFROM:-0600
TZOFFSETTO:-0500
TZNAME:CDT
DTSTART:20200308T080000
END:DAYLIGHT
BEGIN:STANDARD
TZOFFSETFROM:-0500
TZOFFSETTO:-0600
TZNAME:CST
DTSTART:20201101T070000
END:STANDARD
BEGIN:DAYLIGHT
TZOFFSETFROM:-0600
TZOFFSETTO:-0500
TZNAME:CDT
DTSTART:20210314T080000
END:DAYLIGHT
BEGIN:STANDARD
TZOFFSETFROM:-0500
TZOFFSETTO:-0600
TZNAME:CST
DTSTART:20211107T070000
END:STANDARD
END:VTIMEZONE
BEGIN:VEVENT
DTSTART;VALUE=DATE:20200207
DTEND;VALUE=DATE:20200209
DTSTAMP:20260422T062647
CREATED:20191231T192159Z
LAST-MODIFIED:20191231T192159Z
UID:10000058-1581033600-1581206399@stevebell.com
SUMMARY:Levite Summit - Red Deer\, AB
DESCRIPTION:Steve will be participating with Jon Buller at the 2020 Levite Summit in Red Deer\, AB\, Feb. 7-8. \nLevite Summit AB is a Worship\, Arts and Leadership Conference for people from across denominations and generations in the central Alberta region. The Levite Summit gathers and equips people who are using their gifts to serve their local church and community\, creating an environment where those who are always serving can stop and receive\, being filled up so they can continue to pour out. With 3 keynote sessions\, 20+ workshops and plenty of inspiration\, the Levite Summit creates opportunities for teams and individuals to be equipped in their gifts and encouraged in their identity. \n  \nFor more info and to register\, visit www.levitesummit.com
URL:https://stevebell.com/event/levite-summit-red-deer-ab/
LOCATION:Canada
ATTACH;FMTTYPE=image/png:https://stevebell.com/wp-content/uploads/Screen-Shot-2019-12-31-at-1.20.40-PM.png
END:VEVENT
END:VCALENDAR