BEGIN:VCALENDAR
VERSION:2.0
PRODID:-//Steve Bell - ECPv6.15.20//NONSGML v1.0//EN
CALSCALE:GREGORIAN
METHOD:PUBLISH
X-WR-CALNAME:Steve Bell
X-ORIGINAL-URL:https://stevebell.com
X-WR-CALDESC:Events for Steve Bell
REFRESH-INTERVAL;VALUE=DURATION:PT1H
X-Robots-Tag:noindex
X-PUBLISHED-TTL:PT1H
BEGIN:VTIMEZONE
TZID:America/Winnipeg
BEGIN:DAYLIGHT
TZOFFSETFROM:-0600
TZOFFSETTO:-0500
TZNAME:CDT
DTSTART:20190310T080000
END:DAYLIGHT
BEGIN:STANDARD
TZOFFSETFROM:-0500
TZOFFSETTO:-0600
TZNAME:CST
DTSTART:20191103T070000
END:STANDARD
BEGIN:DAYLIGHT
TZOFFSETFROM:-0600
TZOFFSETTO:-0500
TZNAME:CDT
DTSTART:20200308T080000
END:DAYLIGHT
BEGIN:STANDARD
TZOFFSETFROM:-0500
TZOFFSETTO:-0600
TZNAME:CST
DTSTART:20201101T070000
END:STANDARD
BEGIN:DAYLIGHT
TZOFFSETFROM:-0600
TZOFFSETTO:-0500
TZNAME:CDT
DTSTART:20210314T080000
END:DAYLIGHT
BEGIN:STANDARD
TZOFFSETFROM:-0500
TZOFFSETTO:-0600
TZNAME:CST
DTSTART:20211107T070000
END:STANDARD
END:VTIMEZONE
BEGIN:VEVENT
DTSTART;TZID=America/Winnipeg:20200320T193000
DTEND;TZID=America/Winnipeg:20200320T193000
DTSTAMP:20260425T165221
CREATED:20191203T204341Z
LAST-MODIFIED:20200319T164339Z
UID:10000056-1584732600-1584732600@stevebell.com
SUMMARY:Winnipeg - Solo Concert
DESCRIPTION:March 20th Concert in Winnipeg Postponed\nGiven the sudden acceleration of the coronavirus crisis in Canada\, Steve and our team here at Signpost have made the decision\, effective today\, to postpone concerts and retreats for the near future. It seems unconscionable to us to directly or indirectly put vulnerable people at risk for the sake of a non-essential public event. Please know this is not a fear-based decision\, but rather a love-based decision.  “One of the basic axioms of the Christian life” writes Andy Crouch\, “is that the ‘strong’ must consider the ‘weak’ (see Rom. 15). We are making these choices not to minimize our own risk\, but to protect others from risk.” \nI hope folks understand that this decision has fairly serious consequences for us financially and so most events will be postponed and rescheduled rather than cancelled.  \nWe may re-schedule\, and will let you know asap. \nHowever\, if you would just like a refund from your online purchase\, please call Faye or Jason at Signpost Music\, Mon. – Fri.\, 9 am-3:30 CST (1-800-854-3499) and they will happily refund your money. If you purchased from Hull’s Family Books or the church\, you will need to get your refund from where you originally purchased them. \nIn the meantime\, over the next weeks\, Steve hopes to mine his catalogue and take advantage of available technology to keep sustaining music in the air while together we face the difficult days ahead. Watch the internet for possible live streaming of mini-concerts and what-not.  We are  thinking a weekly “Live from Signpost Music” mini-concert featuring available artists may be fun.  We’ll see… \nFollow Steve on Social Media \nFacebook: @stevebellmusic \nInstagram: @stevebellmusic \nTwitter: @stevebellmusic1 \nIn making this decision Steve found Andre Crouch’s article “Love In The Time of Coronavirus: A Guide for Christian Leaders” to be extremely valuable.  See:  https://medium.com/@ahc/love-in-the-time-of-coronavirus-26aaeb0396e3
URL:https://stevebell.com/event/winnipeg-solo-concert/
LOCATION:Mary Mother of the Church Parish\, 85 Kirkbridge Drive\, Winnipeg\, Manitoba\, R3T 5Y5\, Canada
CATEGORIES:Solo Concert
ATTACH;FMTTYPE=image/jpeg:https://stevebell.com/wp-content/uploads/Steve-Bell-Solo-Concert.jpg
END:VEVENT
END:VCALENDAR